BEGIN:VCALENDAR
VERSION:2.0
PRODID:-//ChamberMaster//Event Calendar 2.0//EN
METHOD:PUBLISH
X-PUBLISHED-TTL:P3D
REFRESH-INTERVAL:P3D
CALSCALE:GREGORIAN
BEGIN:VEVENT
DTSTART:20260717T170000Z
DTEND:20260717T180000Z
X-MICROSOFT-CDO-ALLDAYEVENT:FALSE
SUMMARY:Kendall County Nonprofit Monthly Lunch Bunch Meeting
DESCRIPTION:We have created a social forum for nonprofit members of the Greater Boerne Chamber of Commerce designed to connect Kendall County nonprofit leaders\, encourage open communication\, and create opportunities for peer mentorship and collaboration across the community.\n\n\n\nLunch is provided\, so RSVP is required.
X-ALT-DESC;FMTTYPE=text/html:We have created a social forum for nonprofit members of the Greater Boerne Chamber of Commerce designed to connect Kendall County nonprofit leaders\, encourage open communication\, and create opportunities for peer mentorship and collaboration across the community.<br />\n<br />\nLunch is provided\, so RSVP is required.&nbsp\;
LOCATION:Contact holly@boerne.org for information.
UID:e.187.32151
SEQUENCE:3
DTSTAMP:20260422T140742Z
URL:https://business.boerne.org/events/details/kendall-county-nonprofit-monthly-lunch-bunch-meeting-07-17-2026-32151
END:VEVENT

END:VCALENDAR
