BEGIN:VCALENDAR
VERSION:2.0
PRODID:-//ChamberMaster//Event Calendar 2.0//EN
METHOD:PUBLISH
X-PUBLISHED-TTL:P3D
REFRESH-INTERVAL:P3D
CALSCALE:GREGORIAN
BEGIN:VEVENT
DTSTART:20250117T180000Z
DTEND:20250117T190000Z
X-MICROSOFT-CDO-ALLDAYEVENT:FALSE
SUMMARY:Kendall County Nonprofit Monthly Lunch Bunch Meeting
DESCRIPTION:**There will be NO January Nonprofit Lunch Bunch Meeting! \n\n\n\nWe have created a social forum for Non-Profit Boerne Chamber of Commerce members. The purpose of our group is to make sure that every Kendall County nonprofit leader is aware of what is happening in the community\, reduce any silos of information and to create peer mentorship/collaboration. \n\n\n\nLunch is provided\, so please RSVP.
X-ALT-DESC;FMTTYPE=text/html:<span style="color:#FF0000\;"><strong>**There will be NO January Nonprofit Lunch Bunch Meeting!&nbsp\;</strong></span><br />\n<br />\nWe have created a social forum for Non-Profit Boerne Chamber of Commerce members. The purpose of our group is to make sure that every Kendall County nonprofit leader is aware of what is happening in the community\, reduce any silos of information and to create peer mentorship/collaboration.&nbsp\;<br />\n<br />\nLunch is provided\, so please RSVP.
LOCATION:Contact holly@boerne.org for information.
UID:e.187.28815
SEQUENCE:3
DTSTAMP:20260423T052437Z
URL:https://business.boerne.org/events/details/kendall-county-nonprofit-monthly-lunch-bunch-meeting-01-17-2025-28815
END:VEVENT

END:VCALENDAR
