BEGIN:VCALENDAR
VERSION:2.0
PRODID:-//ChamberMaster//Event Calendar 2.0//EN
METHOD:PUBLISH
X-PUBLISHED-TTL:P3D
REFRESH-INTERVAL:P3D
CALSCALE:GREGORIAN
BEGIN:VEVENT
DTSTART:20190513T140000Z
DTEND:20190513T160000Z
X-MICROSOFT-CDO-ALLDAYEVENT:FALSE
SUMMARY:Kendall County Commissioners Court
DESCRIPTION:Kendall County Commissioners Court Meeting
X-ALT-DESC;FMTTYPE=text/html:Kendall County Commissioners Court Meeting<br />\n&nbsp\;
LOCATION:Kendall County Courthouse 201 E. San Antonio Ave.\, Boerne\, TX 78006
UID:e.187.6282
SEQUENCE:3
DTSTAMP:20260419T143623Z
URL:https://business.boerne.org/events/details/kendall-county-commissioners-court-05-13-2019-6282
END:VEVENT

END:VCALENDAR
