BEGIN:VCALENDAR
VERSION:2.0
PRODID:-//ChamberMaster//Event Calendar 2.0//EN
METHOD:PUBLISH
X-PUBLISHED-TTL:P3D
REFRESH-INTERVAL:P3D
CALSCALE:GREGORIAN
BEGIN:VEVENT
DTSTART:20250113T150000Z
DTEND:20250113T170000Z
X-MICROSOFT-CDO-ALLDAYEVENT:FALSE
SUMMARY:Kendall County Commissioners Court
DESCRIPTION:Kendall County Commissioners Court Meeting
X-ALT-DESC;FMTTYPE=text/html:Kendall County Commissioners Court Meeting<br />\n&nbsp\;
LOCATION:Kendall County Courthouse 201 E. San Antonio Ave.\, Boerne\, TX 78006
UID:e.187.6350
SEQUENCE:3
DTSTAMP:20260423T052219Z
URL:https://business.boerne.org/events/details/kendall-county-commissioners-court-01-13-2025-6350
END:VEVENT

END:VCALENDAR
