BEGIN:VCALENDAR
VERSION:2.0
PRODID:-//ChamberMaster//Event Calendar 2.0//EN
METHOD:PUBLISH
X-PUBLISHED-TTL:P3D
REFRESH-INTERVAL:P3D
CALSCALE:GREGORIAN
BEGIN:VEVENT
DTSTART:20260422T173000Z
DTEND:20260422T213000Z
X-MICROSOFT-CDO-ALLDAYEVENT:FALSE
SUMMARY:Kendall County Blood Drive
DESCRIPTION:Kendall County Blood Drive  \n\nJoin South Texas Blood & Tissue on Wednesday\, April 22nd from 12:30 PM 4:30 PM at 201 E San Antonio Street and help save lives in our community!\n\nEvery donation can help save up to 3 lives\, and as a thank-you\, donors will receive an exclusive STBT "3 Lives" tee    \n\nSave your spot here or just stop by: https://donor.southtexasblood.org/donor/schedules/drive_schedule/152725\n\nBring a friend\, roll up your sleeve\, and make a difference!
X-ALT-DESC;FMTTYPE=text/html:<span style="font-family:segoe ui emoji\,sans-serif\;">&#128680\;</span> Kendall County Blood Drive <span style="font-family:segoe ui emoji\,sans-serif\;">&#128680\;</span><br />\nJoin South Texas Blood &amp\; Tissue on Wednesday\, April 22nd from 12:30 PM&ndash\;4:30 PM at 201 E San Antonio Street and help save lives in our community!<br />\nEvery donation can help save up to 3 lives\, and as a thank-you\, donors will receive an exclusive STBT &ldquo\;3 Lives&rdquo\; tee <span style="font-family:segoe ui emoji\,sans-serif\;">&#128085\;&#10084\;&#65039\;</span><br />\nSave your spot here or just stop by: <strong><a href="https://donor.southtexasblood.org/donor/schedules/drive_schedule/152725">https://donor.southtexasblood.org/donor/schedules/drive_schedule/152725</a></strong><br />\nBring a friend\, roll up your sleeve\, and make a difference!
LOCATION:
UID:e.187.32391
SEQUENCE:3
DTSTAMP:20260421T194122Z
URL:https://business.boerne.org/events/details/kendall-county-blood-drive-32391
END:VEVENT

END:VCALENDAR
