BEGIN:VCALENDAR
VERSION:2.0
PRODID:-//ChamberMaster//Event Calendar 2.0//EN
METHOD:PUBLISH
X-PUBLISHED-TTL:P3D
REFRESH-INTERVAL:P3D
CALSCALE:GREGORIAN
BEGIN:VEVENT
DTSTART:20241016T230000Z
DTEND:20241017T023000Z
X-MICROSOFT-CDO-ALLDAYEVENT:FALSE
SUMMARY:Kendall County Aggie Moms' Club Purse Bingo
DESCRIPTION:Join us for 10 rounds of Bingo with the chance to win one of our 10 purse prizes. Dinner is include with all tickets and will be served from 6-7p
X-ALT-DESC;FMTTYPE=text/html:Join us for 10 rounds of Bingo with the chance to win one of our 10 purse prizes. Dinner is include with all tickets and will be served from 6-7p
LOCATION:The Cana Ballroom
UID:e.187.28644
SEQUENCE:3
DTSTAMP:20260419T162941Z
URL:https://business.boerne.org/events/details/kendall-county-aggie-moms-club-purse-bingo-28644
END:VEVENT

END:VCALENDAR
