BEGIN:VCALENDAR
VERSION:2.0
PRODID:-//ChamberMaster//Event Calendar 2.0//EN
METHOD:PUBLISH
X-PUBLISHED-TTL:P3D
REFRESH-INTERVAL:P3D
CALSCALE:GREGORIAN
BEGIN:VEVENT
DTSTART:20260331T230000Z
DTEND:20260401T020000Z
X-MICROSOFT-CDO-ALLDAYEVENT:FALSE
SUMMARY:Kendall County Aggie Moms Club Purse Bingo
DESCRIPTION:Join Kendall County Aggie Moms Club for a fun night of Bingo\, prizes\, and designer purses ? OPEN TO THE COMMUNITY   you do NOT have to be an Aggie\, so grab your friends\, neighbors\, coworkers\, and make it a girls' night out! ???? Expect: ?? Fabulous purses ?? Exciting Bingo rounds ?? Great food & drinks ?? A fun night supporting local student scholarships ??? Tickets are limited   don't wait!
X-ALT-DESC;FMTTYPE=text/html:Join Kendall County Aggie Moms Club for a fun night of Bingo\, prizes\, and designer purses ? OPEN TO THE COMMUNITY &mdash\; you do NOT have to be an Aggie\, so grab your friends\, neighbors\, coworkers\, and make it a girls&rsquo\; night out! ???? Expect: ?? Fabulous purses ?? Exciting Bingo rounds ?? Great food &amp\; drinks ?? A fun night supporting local student scholarships ??? Tickets are limited &mdash\; don&rsquo\;t wait!
LOCATION:The Kendall Inn
UID:e.187.32246
SEQUENCE:3
DTSTAMP:20260420T071050Z
URL:https://business.boerne.org/events/details/kendall-county-aggie-moms-club-purse-bingo-03-31-2026-32246
END:VEVENT

END:VCALENDAR
