BEGIN:VCALENDAR
VERSION:2.0
PRODID:-//ChamberMaster//Event Calendar 2.0//EN
METHOD:PUBLISH
X-PUBLISHED-TTL:P3D
REFRESH-INTERVAL:P3D
CALSCALE:GREGORIAN
BEGIN:VEVENT
DTSTART:20241011T150000Z
DTEND:20241011T210000Z
X-MICROSOFT-CDO-ALLDAYEVENT:FALSE
SUMMARY:Joli Trunk Show Sponsored by Burdick Custom Homes
DESCRIPTION:You're invited to a fun trunk show featuring a variety of pretty and unique apparel & accessories from Joli Boutique in Boerne! Enjoy snack\, wine\, and the latest fall clothing from Joli - while exploring the exquisite Burdick home in Cordillera Ranch.\n\n\n\nRSVP to (210) 698-1200 ext. 100
X-ALT-DESC;FMTTYPE=text/html:You&#39\;re invited to a fun trunk show featuring a variety of pretty and unique apparel &amp\; accessories from Joli Boutique in Boerne! Enjoy snack\, wine\, and the latest fall clothing from Joli - while exploring the exquisite Burdick home in Cordillera Ranch.<br />\n<br />\nRSVP to (210) 698-1200 ext. 100&nbsp\;
LOCATION:3728 Clubs Drive\, Cordillera Ranch
UID:e.187.28694
SEQUENCE:3
DTSTAMP:20260419T162813Z
URL:https://business.boerne.org/events/details/joli-trunk-show-sponsored-by-burdick-custom-homes-28694
END:VEVENT

END:VCALENDAR
