BEGIN:VCALENDAR
VERSION:2.0
PRODID:-//ChamberMaster//Event Calendar 2.0//EN
METHOD:PUBLISH
X-PUBLISHED-TTL:P3D
REFRESH-INTERVAL:P3D
CALSCALE:GREGORIAN
BEGIN:VEVENT
DTSTART:20251213T140000Z
DTEND:20251213T180000Z
X-MICROSOFT-CDO-ALLDAYEVENT:FALSE
SUMMARY:Jingle All the Way 5/10k and Fun Run
DESCRIPTION:We are so excited for our 6th Annual Jingle All the Way 5/10k and Fun Run! The race will begin and end at the beautiful Patrick Heath Amphitheater and follow a portion of the historic Old No. 9 trail. Transformation House provides women and children who have experienced trauma and abuse with the time and tools they need to reclaim and rebuild their lives. We provide transitional housing and support services such as therapy and case management. These dual-generation\, wrap-around services enable our families to create new lives free from abuse.
X-ALT-DESC;FMTTYPE=text/html:We are so excited for our 6th Annual Jingle All the Way 5/10k and Fun Run! The race will begin and end at the beautiful Patrick Heath Amphitheater and follow a portion of the historic Old No. 9 trail. Transformation House provides women and children who have experienced trauma and abuse with the time and tools they need to reclaim and rebuild their lives. We provide transitional housing and support services such as therapy and case management. These dual-generation\, wrap-around services enable our families to create new lives free from abuse.
LOCATION:Patrick Heath Public Library 451 N Main St\, Boerne\, TX 78006
UID:e.187.31754
SEQUENCE:3
DTSTAMP:20260420T020406Z
URL:https://business.boerne.org/events/details/jingle-all-the-way-5-10k-and-fun-run-31754
END:VEVENT

END:VCALENDAR
