BEGIN:VCALENDAR
VERSION:2.0
PRODID:-//ChamberMaster//Event Calendar 2.0//EN
METHOD:PUBLISH
X-PUBLISHED-TTL:P3D
REFRESH-INTERVAL:P3D
CALSCALE:GREGORIAN
BEGIN:VEVENT
DTSTART:20170517T223000Z
DTEND:20170518T000000Z
X-MICROSOFT-CDO-ALLDAYEVENT:FALSE
SUMMARY:Investor's Connection Happy Hour
DESCRIPTION:Come join us for a Happy Hour for the  Investor's Connection sponsored by Guaranty Title Company of Boerne\, Wells Fargo Home Mortgage\, The Rivers Team and Phyllis Browning Land & Ranch Co.\n\n\n\nThis event is an opportunity to be introduced to a new investment property.
X-ALT-DESC;FMTTYPE=text/html:Come join us for a Happy Hour for&nbsp\;the&nbsp\; Investor&#39\;s Connection&nbsp\;sponsored by Guaranty Title Company of Boerne\, Wells Fargo Home Mortgage\, The Rivers Team and Phyllis Browning Land &amp\; Ranch Co.<br />\n<br />\nThis event is an opportunity to be introduced to a new investment property.\n<p align="LEFT">&nbsp\;</p>\n\n<p align="CENTER">&nbsp\;</p>\n\n<p align="CENTER">&nbsp\;</p>\n\n<p align="CENTER">&nbsp\;</p>\n\n<p align="CENTER">&nbsp\;</p>\n\n<p align="CENTER">&nbsp\;</p>\n
LOCATION:Double Diamond Ranch(map) 415 Hwy 46 West Boerne\, TX 78006
UID:e.187.11633
SEQUENCE:3
DTSTAMP:20260423T040630Z
URL:https://business.boerne.org/events/details/investor-s-connection-happy-hour-11633
END:VEVENT

END:VCALENDAR
