BEGIN:VCALENDAR
VERSION:2.0
PRODID:-//ChamberMaster//Event Calendar 2.0//EN
METHOD:PUBLISH
X-PUBLISHED-TTL:P3D
REFRESH-INTERVAL:P3D
CALSCALE:GREGORIAN
BEGIN:VEVENT
DTSTART:20260305T220000Z
DTEND:20260306T020000Z
X-MICROSOFT-CDO-ALLDAYEVENT:FALSE
SUMMARY:International Women's Day Event hosted by Cavender Auto Group
DESCRIPTION:An Invitation to ALL Dynamic Women in Business  \n\n \n\nSan Antonio\, this one is for you.\n\n \n\nJoin us for a powerful International Women's Day celebration bringing together women from EVERY industry   leaders\, builders\, creators\, visionaries\, entrepreneurs\, executives\, and those just getting started.\n\n \n\nThis is more than an event.   It's a room full of momentum.\n\n  Inspiring guest speakers and a dynamic panel of powerhouse women\n\n  Professional headshots with makeup touch-ups\n\n  A high-energy social hour with drinks\, food\, and music\n\n  Shopping and connection with incredible women-owned businesses\n\n \n\nWhether you're scaling your company\, expanding your network\, stepping into leadership\, or simply ready to surround yourself with ambitious\, like-minded women   this is your space.\n\nThis is where collaboration becomes catalyst.\n\nThis is where connection turns into opportunity.\n\nThis is where women rise   together.\n\n \n\n  San Antonio\, TX\n\n \n\nLet's build something powerful.  \n\n \n\nHosted by Cavender Grande Ford\, and WIA\n\n \n\nRun of Show-\n\n3:30-4 PM   Doors Open / Registration\n\n4-4:30 WIA Welcome Reception\n\n4:30 PM   5:00 PM: Women in Automotive Keynote Speaker: April Ancira\n\n5:00 PM   5:45 PM: Women in Automotive Panel \n\n5:45 PM   6:15 PM: International Women's Event Keynote: Jenny Carnes\n\n6:15-8 PM: Social Hour\; Drinks\, Food\, Music\, Shopping (Supporting Women Owned Businesses)
X-ALT-DESC;FMTTYPE=text/html:<span style="color:black\;"><span style="font-family:segoe ui emoji\,sans-serif\;">&#10024\;</span></span><span style="color:black\;"> <strong>An Invitation to ALL Dynamic Women in Business</strong>&nbsp\;</span><span style="color:black\;"><span style="font-family:segoe ui emoji\,sans-serif\;">&#10024\;</span></span><br />\n&nbsp\;<br />\n<span style="color:black\;">San Antonio\, this one is for you.</span><br />\n&nbsp\;<br />\n<span style="color:black\;">Join us for a powerful International Women&rsquo\;s Day celebration bringing together women from <em>EVERY </em>industry &mdash\; leaders\, builders\, creators\, visionaries\, entrepreneurs\, executives\, and those just getting started.</span><br />\n&nbsp\;<br />\n<span style="color:black\;">This is more than an event.&nbsp\;&nbsp\; It&rsquo\;s a room full of momentum.</span><br />\n<span style="color:black\;"><span style="font-family:segoe ui emoji\,sans-serif\;">&#10024\;</span></span><span style="color:black\;">&nbsp\;Inspiring guest speakers and a dynamic panel of powerhouse women</span><br />\n<span style="color:black\;"><span style="font-family:segoe ui emoji\,sans-serif\;">&#10024\;</span></span><span style="color:black\;">&nbsp\;Professional headshots with makeup touch-ups</span><br />\n<span style="color:black\;"><span style="font-family:segoe ui emoji\,sans-serif\;">&#10024\;</span></span><span style="color:black\;">&nbsp\;A high-energy social hour with drinks\, food\, and music</span><br />\n<span style="color:black\;"><span style="font-family:segoe ui emoji\,sans-serif\;">&#10024\;</span></span><span style="color:black\;">&nbsp\;Shopping and connection with incredible women-owned businesses</span><br />\n&nbsp\;<br />\n<span style="color:black\;">Whether you&rsquo\;re scaling your company\, expanding your network\, stepping into leadership\, or simply ready to surround yourself with ambitious\, like-minded women &mdash\; this is your space.</span><br />\n<span style="color:black\;">This is where collaboration becomes catalyst.<br />\nThis is where connection turns into opportunity.<br />\nThis is where women rise &mdash\; together.</span><br />\n&nbsp\;<br />\n<span style="color:black\;"><span style="font-family:segoe ui emoji\,sans-serif\;">&#128205\;</span></span><span style="color:black\;">&nbsp\;San Antonio\, TX</span><br />\n&nbsp\;<br />\n<span style="color:black\;">Let&rsquo\;s build something powerful. </span><span style="color:black\;"><span style="font-family:segoe ui emoji\,sans-serif\;">&#128171\;</span></span><br />\n&nbsp\;<br />\n<span style="color:black\;">Hosted by Cavender Grande Ford\, and WIA</span><br />\n&nbsp\;<br />\nRun of Show-<br />\n<strong><span style="color:black\;">3:30-4 PM &ndash\; Doors Open / Registration</span></strong><br />\n<strong><span style="color:black\;">4-4:30 WIA Welcome Reception</span></strong><br />\n<strong><span style="color:black\;">4:30 PM &ndash\; 5:00 PM:&nbsp\;Women&nbsp\;in Automotive Keynote Speaker: April Ancira</span></strong><br />\n<strong><span style="color:black\;">5:00 PM &ndash\; 5:45 PM:&nbsp\;Women&nbsp\;in Automotive Panel&nbsp\;</span></strong><br />\n<strong><span style="color:black\;">5:45 PM &ndash\; 6:15 PM: International Women&#39\;s Event Keynote: Jenny Carnes</span></strong><br />\n<strong><span style="color:black\;">6:15-8 PM: Social Hour\; Drinks\, Food\, Music\, Shopping (Supporting&nbsp\;Women&nbsp\;Owned Businesses)</span></strong>
LOCATION:
UID:e.187.32282
SEQUENCE:3
DTSTAMP:20260420T070440Z
URL:https://business.boerne.org/events/details/international-women-s-day-event-hosted-by-cavender-auto-group-32282
END:VEVENT

END:VCALENDAR
