BEGIN:VCALENDAR
VERSION:2.0
PRODID:-//ChamberMaster//Event Calendar 2.0//EN
METHOD:PUBLISH
X-PUBLISHED-TTL:P3D
REFRESH-INTERVAL:P3D
CALSCALE:GREGORIAN
BEGIN:VEVENT
DTSTART:20180620T163000Z
DTEND:20180620T183000Z
X-MICROSOFT-CDO-ALLDAYEVENT:FALSE
SUMMARY:Instagram: The Next Best Thing! (Workshop)
DESCRIPTION:Instagram: The Next Best Thing!\n\nLearn How to Take Your Businesses Instagram Marketing Strategy to the Next Level.\n\n \n\nLearn how to use:\n\nEngaging Images\n\nHashtags\n\nEmoji's\n\nCreating Captions\n\nOptimizing Your Bio\n\nCreating Graphics\n\nUnderstanding Insights\n\n\nDebi Burrows\, Owner/Head Storyteller/Strategist of Penguin Suits will present a class on Instagram as a marketing strategy. Penguins Suits has enjoyed working with local and area businesses for seventeen years. For more information about her award-winning marketing/advertising agency and to see examples of its projects\, go to www.penguinsuits.com.
X-ALT-DESC;FMTTYPE=text/html:<div style="font-size: 14px\;"><span style="font-family:times new roman\;"><strong><span style="color:#1F497D\;">Instagram: The Next Best Thing!</span><br />\n<span style="color:#1F497D\;">Learn How to Take Your Businesses Instagram Marketing Strategy to the Next Level.</span></strong><br />\n&nbsp\;<br />\n<span style="color:#1F497D\;"><u>Learn how to use</u>:</span></span><br />\n<span style="color: rgb(31\, 73\, 125)\; font-family: &quot\;times new roman&quot\;\;">Engaging Images</span><br />\n<span style="color: rgb(31\, 73\, 125)\; font-family: &quot\;times new roman&quot\;\;">Hashtags</span><br />\n<span style="color: rgb(31\, 73\, 125)\; font-family: &quot\;times new roman&quot\;\;">Emoji&rsquo\;s</span><br />\n<span style="color: rgb(31\, 73\, 125)\; font-family: &quot\;times new roman&quot\;\;">Creating Captions</span><br />\n<span style="color: rgb(31\, 73\, 125)\; font-family: &quot\;times new roman&quot\;\;">Optimizing Your Bio</span><br />\n<span style="color: rgb(31\, 73\, 125)\; font-family: &quot\;times new roman&quot\;\;">Creating Graphics</span><br />\n<span style="font-family: &quot\;times new roman&quot\;\; color: rgb(31\, 73\, 125)\;">Understanding Insights</span></div>\n<br />\n<span style="font-size:14px\;"><span style="font-family:times new roman\;"><span style="color:#1F497D\;">Debi Burrows\, Owner/Head Storyteller/Strategist of Penguin Suits will present a class on Instagram as a marketing strategy. Penguins Suits has enjoyed working with local and area businesses for seventeen years. For more information about her award-winning marketing/advertising agency and to see examples of its projects\, go to <a href="http://www.penguinsuits.com">www.penguinsuits.com</a>.</span></span></span><br />\n&nbsp\;
LOCATION:Boerne Chamber Boardroom 121 S. Main Street Boerne\, TX 78006
UID:e.187.13914
SEQUENCE:3
DTSTAMP:20260422T085605Z
URL:https://business.boerne.org/events/details/instagram-the-next-best-thing-workshop-13914
END:VEVENT

END:VCALENDAR
