BEGIN:VCALENDAR
VERSION:2.0
PRODID:-//ChamberMaster//Event Calendar 2.0//EN
METHOD:PUBLISH
X-PUBLISHED-TTL:P3D
REFRESH-INTERVAL:P3D
CALSCALE:GREGORIAN
BEGIN:VEVENT
DTSTART:20180410T133000Z
DTEND:20180410T143000Z
X-MICROSOFT-CDO-ALLDAYEVENT:FALSE
SUMMARY:How to Maximize Business Value Through Scalable Growth
DESCRIPTION:How to position your business for growth through systems\, processes\, and mindset.\n\n      \n\nDoes your team know how to succeed?  Are your processes built to allow your business to grow?   Without they right systems\,processes and mindset it is difficult to grow not only revenue but to develop and maintain a successful team.  \n\n \n\nMany business owners have not had the mental and emotional energy to develop reliable systems and processes that will allow for growth. This is not just in operations but also in how you consider revenue generation and marketing systems.  A business that is ready for growth is a business that is desirable to own and is worth more. With healthy profitable growth you can continue to increase your quality of life and income.\n\n \n\nIn this workshop we will cover\n\n	What are the killers to scalable growth?\n	Simple Steps you can implement to develop healthy systems and processes.\n	Recurring Revenue models that can be implemented in any business\n	How to get buy in from employees for necessary changes?\n\n \n\nYou will leave with information you can implement in your business.\n\n \n\nPresenter\n\nRobert Upton has owned 3 small businesses and has management and sales background in real estate\, B2B service companies\, and nonprofit.  He has consulted businesses from a large variety of industries over the last decade.  Robert works with Texas Business Buyers\, a leading Texas firm that specializes in small business transactions and has 100% success record in selling the businesses they have represented\, for 98.5% of asking price.\n\n \n\nThis is the fourth meeting in the Building Business Value Breakfast Series.  We will meet 2nd Tuesday of the month at 8:30 AM at the Boerne Chamber office.
X-ALT-DESC;FMTTYPE=text/html:<strong><span style="color:black\;"><span style="font-family:arial\,sans-serif\;"><span style="font-size:18.0pt\;">How to position your business for growth through systems\, processes\, and mindset.</span></span></span></strong><br />\n&nbsp\;&nbsp\;&nbsp\;&nbsp\;&nbsp\;&nbsp\;<br />\n<span style="font-family:arial\,sans-serif\;"><span style="font-size:9.5pt\;">Does your team know how to succeed?&nbsp\; Are your processes built to allow your business to grow? &nbsp\;&nbsp\;Without they right systems\,processes and mindset it is difficult to grow not only revenue but to develop and maintain a successful team. &nbsp\;</span></span><br />\n&nbsp\;<br />\n<span style="font-family:arial\,sans-serif\;"><span style="font-size:9.5pt\;">Many business owners have not had the mental and emotional energy to develop reliable systems and processes that will allow for growth. This is not just in operations but also in how you consider revenue generation and marketing systems.&nbsp\; A business that is ready for growth is a business that is desirable to own and is worth more. With healthy profitable growth you can continue to increase your quality of life and income.</span></span><br />\n&nbsp\;<br />\n<span style="font-family:arial\,sans-serif\;"><span style="font-size:9.5pt\;">In this workshop we will cover</span></span>\n<ul>\n	<li style="color:black\;margin-top:0in\;margin-bottom:0in\;margin-bottom:.0001pt\;vertical-align:baseline\;font-variant-numeric:normal\;font-variant-east-asian:normal\;"><span style="font-family:arial\,sans-serif\;">What are the killers to scalable growth?</span></li>\n	<li style="color:black\;margin-top:0in\;margin-bottom:0in\;margin-bottom:.0001pt\;vertical-align:baseline\;font-variant-numeric:normal\;font-variant-east-asian:normal\;"><span style="font-family:arial\,sans-serif\;">Simple Steps you can implement to develop healthy systems and processes.</span></li>\n	<li style="color:black\;margin-top:0in\;margin-bottom:0in\;margin-bottom:.0001pt\;vertical-align:baseline\;font-variant-numeric:normal\;font-variant-east-asian:normal\;"><span style="font-family:arial\,sans-serif\;">Recurring Revenue models that can be implemented in any business</span></li>\n	<li style="color:black\;margin-top:0in\;margin-bottom:0in\;margin-bottom:.0001pt\;vertical-align:baseline\;font-variant-numeric:normal\;font-variant-east-asian:normal\;"><span style="font-family:arial\,sans-serif\;">How to get buy in from employees for necessary changes?</span></li>\n</ul>\n&nbsp\;<br />\n<span style="font-family:arial\,sans-serif\;"><span style="font-size:9.5pt\;">You will leave with information you can implement in your business.</span></span><br />\n&nbsp\;<br />\n<span style="font-family:arial\,sans-serif\;"><span style="font-size:9.5pt\;">Presenter</span></span><br />\n<span style="font-family:arial\,sans-serif\;"><span style="font-size:9.5pt\;">Robert Upton has owned 3 small businesses and has management and sales background in real estate\, B2B service companies\, and nonprofit.&nbsp\; He has consulted businesses from a large variety of industries over the last decade.&nbsp\; Robert works with Texas Business Buyers\, a leading Texas firm that specializes in small business transactions and has 100% success record in selling the businesses they have represented\, for 98.5% of asking price.</span></span><br />\n&nbsp\;<br />\n<span style="font-family:arial\,sans-serif\;"><span style="font-size:9.5pt\;">This is the fourth meeting in the Building Business Value Breakfast Series.&nbsp\; We will meet 2nd Tuesday of the month at 8:30 AM at the Boerne Chamber office.</span></span>
LOCATION:Chamber Boardroom
UID:e.187.11965
SEQUENCE:3
DTSTAMP:20260422T121159Z
URL:https://business.boerne.org/events/details/how-to-maximize-business-value-through-scalable-growth-11965
END:VEVENT

END:VCALENDAR
