BEGIN:VCALENDAR
VERSION:2.0
PRODID:-//ChamberMaster//Event Calendar 2.0//EN
METHOD:PUBLISH
X-PUBLISHED-TTL:P3D
REFRESH-INTERVAL:P3D
CALSCALE:GREGORIAN
BEGIN:VEVENT
DTSTART:20180517T163000Z
DTEND:20180517T183000Z
X-MICROSOFT-CDO-ALLDAYEVENT:FALSE
SUMMARY:How to Hire and Engage the Millennial Workforce
DESCRIPTION:How to hire and engage the Millennial workforce so you can thrive in your business\n\n      \n\nFrustration\, low employee performance\, and high turnover are just a few of the things I hear as a business advisor from owners regarding Millennials.  The new workforce presents some new challenges that today's business community is struggling to address. If you are not ready with the right mindset\, processes and tools to identify the best candidates\, hire well\, and engage your workforce effectively your business will continue to struggle. \n\n \n\nMany owners have lost hope that they can find solid employees for their business.  The millennial workforce is often a misunderstood but powerful group that have great strengths and some real weaknesses but as an owner and manager you can shape your culture and processes to maximize your team's success and WIN!\n\n \n\nThis lunch and learn can give you the mindset\, process and a tool or two to hire\, engage\, motivate and successfully lead your team.\n\n\n\nWe will cover\n\n	Understanding the millennial mindset\, weaknesses and strengths\n	What needs to change in your organization so that your new workforce can succeed?\n	How does your hiring process need to change to hire the best of the millennial generation?\n	The greatest assets of a millennial and how to engage them in the growth and success of your business.\n\nYou will leave with information you can implement in your business.\n\n \n\nPresenter\n\nRobert Upton has owned 3 small businesses and has management and sales background in real estate\, B2B service companies\, and nonprofit.  He has consulted businesses from a large variety of industries over the last decade. Robert also works with Texas Business Buyers\, a leading Texas firm that specializes in small business transactions and has 100% success record in selling healthy businesses they have represented\, for 98.5% of asking price.
X-ALT-DESC;FMTTYPE=text/html:<strong><span style="color:black\;"><span style="font-family:arial\,sans-serif\;"><span style="font-size:18.0pt\;">How to hire and engage the Millennial workforce so you can thrive in your business</span></span></span></strong><br />\n&nbsp\;&nbsp\;&nbsp\;&nbsp\;&nbsp\;&nbsp\;<br />\n<span style="background:white\;"><span style="color:#222222\;"><span style="font-family:arial\,sans-serif\;"><span style="font-size:9.5pt\;">Frustration\, low employee performance\, and high turnover are just a few of the things I hear as a business advisor from owners regarding Millennials.&nbsp\; The new workforce presents some new challenges that today&rsquo\;s business community is struggling to address. If you are not ready with the right mindset\, processes and tools to identify the best candidates\, hire well\, and engage your workforce effectively your business will continue to struggle. </span></span></span></span><br />\n&nbsp\;<br />\n<span style="background:white\;"><span style="color:#222222\;"><span style="font-family:arial\,sans-serif\;"><span style="font-size:9.5pt\;">Many owners have lost hope that they can find solid employees for their business.&nbsp\; The millennial workforce is often a misunderstood but powerful group that have great strengths and some real weaknesses but as an owner and manager you can shape your culture and processes to maximize your team&rsquo\;s success and WIN!</span></span></span></span><br />\n&nbsp\;<br />\n<span style="background:white\;"><span style="color:#222222\;"><span style="font-family:arial\,sans-serif\;"><span style="font-size:9.5pt\;">This lunch and learn can give you the mindset\, process and a tool or two to hire\, engage\, motivate and successfully lead your team.</span></span></span></span><br />\n<br />\n<span style="background:white\;"><span style="color:#222222\;"><span style="font-family:arial\,sans-serif\;"><span style="font-size:9.5pt\;">We will cover</span></span></span></span>\n<ul>\n	<li style="color:black\;margin-top:0in\;margin-bottom:0in\;margin-bottom:.0001pt\;vertical-align:baseline\;"><span style="font-family:arial\,sans-serif\;">Understanding the millennial mindset\, weaknesses and strengths</span></li>\n	<li style="color:black\;margin-top:0in\;margin-bottom:0in\;margin-bottom:.0001pt\;vertical-align:baseline\;"><span style="font-family:arial\,sans-serif\;">What needs to change in your organization so that your new workforce can succeed?</span></li>\n	<li style="color:black\;margin-top:0in\;margin-bottom:0in\;margin-bottom:.0001pt\;vertical-align:baseline\;"><span style="font-family:arial\,sans-serif\;">How does your hiring process need to change to hire the best of the millennial generation?</span></li>\n	<li style="color:black\;margin-top:0in\;margin-bottom:0in\;margin-bottom:.0001pt\;vertical-align:baseline\;"><span style="font-family:arial\,sans-serif\;">The greatest assets of a millennial and how to engage them in the growth and success of your business.</span></li>\n</ul>\n<span style="background:white\;"><span style="color:#222222\;"><span style="font-family:arial\,sans-serif\;"><span style="font-size:9.5pt\;">You will leave with information you can implement in your business.</span></span></span></span><br />\n&nbsp\;<br />\n<u><strong><span style="background:white\;"><span style="color:#222222\;"><span style="font-family:arial\,sans-serif\;"><span style="font-size:9.5pt\;">Presenter</span></span></span></span></strong></u><br />\n<span style="background:white\;"><span style="color:#222222\;"><span style="font-family:arial\,sans-serif\;"><span style="font-size:9.5pt\;">Robert Upton has owned 3 small businesses and has management and sales background in real estate\, B2B service companies\, and nonprofit.&nbsp\; He has consulted businesses from a large variety of industries over the last decade. Robert also works with Texas Business Buyers\, a leading Texas firm that specializes in small business transactions and has 100% success record in selling healthy businesses they have represented\, for 98.5% of asking price.</span></span></span></span>
LOCATION:Boerne Chamber Boardroom 121. S. Main Street Boerne\, TX 78006
UID:e.187.13695
SEQUENCE:3
DTSTAMP:20260422T085726Z
URL:https://business.boerne.org/events/details/how-to-hire-and-engage-the-millennial-workforce-13695
END:VEVENT

END:VCALENDAR
