BEGIN:VCALENDAR
VERSION:2.0
PRODID:-//ChamberMaster//Event Calendar 2.0//EN
METHOD:PUBLISH
X-PUBLISHED-TTL:P3D
REFRESH-INTERVAL:P3D
CALSCALE:GREGORIAN
BEGIN:VEVENT
DTSTART:20181115T000000Z
DTEND:20181115T020000Z
X-MICROSOFT-CDO-ALLDAYEVENT:FALSE
SUMMARY:Home Buyer Workshop
DESCRIPTION:Join us for a Home Buyer's Workshop Featuring The 10 Best Kept Secrets When Buying A Home hosted at The Greater Boerne Chamber of Commerce at 121 S. Main St. BBQ Dinner will be provided. Mini IPad Give Away. Please RSVP by November 8th. Space is Limited and you must Be Present To Win the giveway. RSVP to Lisa Stanley in messenger or email at lstanley@cbharper.com
X-ALT-DESC;FMTTYPE=text/html:<span style="color: rgb(29\, 33\, 41)\; font-family: Helvetica\, Arial\, sans-serif\; font-size: 14px\;">Join us for a Home Buyer&#39\;s Workshop Featuring The 10 Best Kept Secrets When Buying A Home hosted at The Greater Boerne Chamber of Commerce at 121 S. Main St. BBQ Dinner will be provided. Mini IPad Give Away. Please RSVP by November 8th. Space is Limited and you must Be Present To Win the giveway. RSVP to Lisa Stanley in messenger or email at lstanley@cbharper.com</span>
LOCATION:Boerne Chamber of Commerce 121 S. Main St. Boerne\, TX 78006
UID:e.187.15145
SEQUENCE:3
DTSTAMP:20260419T235519Z
URL:https://business.boerne.org/events/details/home-buyer-workshop-15145
END:VEVENT

END:VCALENDAR
