BEGIN:VCALENDAR
VERSION:2.0
PRODID:-//ChamberMaster//Event Calendar 2.0//EN
METHOD:PUBLISH
X-PUBLISHED-TTL:P3D
REFRESH-INTERVAL:P3D
CALSCALE:GREGORIAN
BEGIN:VEVENT
DTSTART;VALUE=DATE:20181227
DTEND;VALUE=DATE:20181229
TRANSP:TRANSPARENT
X-MICROSOFT-CDO-ALLDAYEVENT:TRUE
SUMMARY:Holiday Mini Camps at the Science Mill
DESCRIPTION:The Science Mill is offering day camps on Thursday and Friday\, Dec. 27-28 for students in grades 3-5. Kids can come to both days or just one and will be programming mBots\, taking care of MicroPets\, and making their very own robots! Campers will get to develop a robot produced out of recyclable materials\, and then put together a sales pitch for their creation.
X-ALT-DESC;FMTTYPE=text/html:The Science Mill is offering day camps on Thursday and Friday\, Dec. 27-28 for students in grades 3-5. Kids can come to both days or just one and will be programming mBots\, taking care of MicroPets\, and making their very own robots! Campers will get to develop a robot produced out of recyclable materials\, and then put together a sales pitch for their creation.&nbsp\;
LOCATION:The Science Mill 101 S. Ladybird Lane Johnson City\, Texas 78636
UID:e.187.15533
SEQUENCE:3
DTSTAMP:20260419T235040Z
URL:https://business.boerne.org/events/details/holiday-mini-camps-at-the-science-mill-15533
END:VEVENT

END:VCALENDAR
