BEGIN:VCALENDAR
VERSION:2.0
PRODID:-//ChamberMaster//Event Calendar 2.0//EN
METHOD:PUBLISH
X-PUBLISHED-TTL:P3D
REFRESH-INTERVAL:P3D
CALSCALE:GREGORIAN
BEGIN:VEVENT
DTSTART:20191107T170000Z
DTEND:20191107T210000Z
X-MICROSOFT-CDO-ALLDAYEVENT:FALSE
SUMMARY:Hiring Red\, White & You - The Largest Hiring Event in San Antonio
DESCRIPTION:Hiring Red\, White & You!\n\nThe Largest Hiring Event in San Antonio for Transitioning Service Members\, Veterans & Spouses\n\nOver 150 Employers & Veteran Information Village Organizations
X-ALT-DESC;FMTTYPE=text/html:Hiring Red\, White &amp\; You!<br />\nThe Largest Hiring Event in San Antonio for Transitioning Service Members\, Veterans &amp\; Spouses<br />\nOver 150 Employers &amp\; Veteran Information Village Organizations
LOCATION:Freeman Coliseum EXPO Hall C FREE Parking
UID:e.187.16814
SEQUENCE:3
DTSTAMP:20260419T223515Z
URL:https://business.boerne.org/events/details/hiring-red-white-you-the-largest-hiring-event-in-san-antonio-16814
END:VEVENT

END:VCALENDAR
