BEGIN:VCALENDAR
VERSION:2.0
PRODID:-//ChamberMaster//Event Calendar 2.0//EN
METHOD:PUBLISH
X-PUBLISHED-TTL:P3D
REFRESH-INTERVAL:P3D
CALSCALE:GREGORIAN
BEGIN:VEVENT
DTSTART:20180613T163000Z
DTEND:20180613T180000Z
X-MICROSOFT-CDO-ALLDAYEVENT:FALSE
SUMMARY:Hill Country Networking Luncheon sponsored by My Urgent Clinic Boerne
DESCRIPTION:Join us for a Mega Networking event sponsored by My Urgent Clinic Boerne and hosted by the Boerne Chamber of Commerce. Make new connections with business people from all over the Hill Country including the Chambers of Commerce in Boerne\, Bulverde\,  Comfort\, Fredericksburg Helotes\, and New Braunfels\n\n\n\nOur events are friendly and filled with fun ice-breakers\, topic discussions and plenty of time to shake hands and meet new people.\n\n\n\nDon't just collect business cards. Make a lasting connection with other chamber members like you - building their business through personal relationships that start at the Chamber!\n\n\n\nFuture chamber members welcome.\n\n\n\nAny questions please contact Mary Sue Hurdt Director of Programs and Events. marysue@boerne.org
X-ALT-DESC;FMTTYPE=text/html:Join us for a&nbsp\;<strong>Mega Networking event sponsored by My Urgent Clinic Boerne and hosted by the Boerne Chamber of Commerce</strong>. Make new connections with business people from all over the Hill Country including the Chambers of Commerce in Boerne\,&nbsp\;Bulverde\,&nbsp\; Comfort\,&nbsp\;Fredericksburg&nbsp\;Helotes\, and New Braunfels<br />\n<br />\nOur events are friendly and filled with fun ice-breakers\, topic discussions and plenty of time to shake hands and meet new people.<br />\n<br />\nDon&#39\;t just collect business cards. Make a lasting connection with other chamber members like you -&nbsp\;building&nbsp\;their business through personal relationships that start at the Chamber!<br />\n<br />\nFuture chamber members welcome.<br />\n<br />\nAny questions please contact Mary Sue Hurdt&nbsp\;Director of Programs and Events. marysue@boerne.org<br />\n<br />\n&nbsp\;
LOCATION:The Cana Ballroom (map) 202 W. Kronkosky Street Boerne\, TX 78006
UID:e.187.12055
SEQUENCE:3
DTSTAMP:20260420T074848Z
URL:https://business.boerne.org/events/details/hill-country-networking-luncheon-sponsored-by-my-urgent-clinic-boerne-12055
END:VEVENT

END:VCALENDAR
