BEGIN:VCALENDAR
VERSION:2.0
PRODID:-//ChamberMaster//Event Calendar 2.0//EN
METHOD:PUBLISH
X-PUBLISHED-TTL:P3D
REFRESH-INTERVAL:P3D
CALSCALE:GREGORIAN
BEGIN:VEVENT
DTSTART:20250605T160000Z
DTEND:20250605T180000Z
X-MICROSOFT-CDO-ALLDAYEVENT:FALSE
SUMMARY:Hill Country Networking Lunch Presented by Guadalupe-Blanco River Authority
DESCRIPTION:Don't miss our upcoming Hill Country Networking Lunch Presented by Guadalupe-Blanco River Authority!\n\n\n\nConnect with over 150 business leaders and entrepreneurs from across the Hill Country at one of the Chamber's most popular events. Meet professionals from  Boerne\, Bulverde\, Canyon Lake\, Comfort\, Fredericksburg\, Helotes\, Kerrville\, New Braunfels and beyond - all coming together to grow\, collaborate\, and thrive. Our networking events are designed to be both welcoming and informative\, providing ample opportunity to forge new connections. Beyond merely exchanging business cards\, we encourage you to cultivate lasting relationships with fellow entrepreneurs who\, like you\, prioritize building their business through meaningful personal connections\, fostered with here at the Chamber!\n\n\n\nGuests will enjoy a meal catered by Peggy's On The Green\, an interactive networking activity\, and a short presentation from our presenting sponsor\, GBRA.
X-ALT-DESC;FMTTYPE=text/html:<span style="color:#000000\;">Don&#39\;t miss our upcoming Hill Country Networking Lunch Presented by Guadalupe-Blanco River Authority!<br />\n<br />\nConnect with over 150 business leaders and entrepreneurs from across the Hill Country at one of the Chamber&#39\;s most popular events. Meet professionals from&nbsp\; Boerne\, Bulverde\, Canyon Lake\, Comfort\, Fredericksburg\, Helotes\, Kerrville\, New Braunfels and beyond - all coming together to grow\, collaborate\, and thrive. Our networking events are designed to be both welcoming and informative\, providing ample opportunity to forge new connections. Beyond merely exchanging business cards\, we encourage you to cultivate lasting relationships with fellow entrepreneurs who\, like you\, prioritize building their business through meaningful personal connections\, fostered with here at the Chamber!<br />\n<br />\nGuests will enjoy a meal catered by Peggy&#39\;s On The Green\, an interactive networking activity\, and a short presentation from our presenting sponsor\, GBRA.</span>
LOCATION:The Kendall 128 W Blanco Rd Boerne\, TX. 78006
UID:e.187.29390
SEQUENCE:3
DTSTAMP:20260422T195330Z
URL:https://business.boerne.org/events/details/hill-country-networking-lunch-presented-by-guadalupe-blanco-river-authority-29390
END:VEVENT

END:VCALENDAR
