BEGIN:VCALENDAR
VERSION:2.0
PRODID:-//ChamberMaster//Event Calendar 2.0//EN
METHOD:PUBLISH
X-PUBLISHED-TTL:P3D
REFRESH-INTERVAL:P3D
CALSCALE:GREGORIAN
BEGIN:VEVENT
DTSTART:20191107T170000Z
DTEND:20191107T190000Z
X-MICROSOFT-CDO-ALLDAYEVENT:FALSE
SUMMARY:Hill Country Networking Lunch Presented by Centennial Bank
DESCRIPTION:Don't miss our upcoming Hill Country Networking Lunch presented by Centennial Bank!\n\n\n\nJoin more than 100 area business leaders at one of the Chamber's most popular events and make new connections from all over the Hill Country\, including Boerne\, Bulverde\, Canyon Lake\, Comfort\, Fredericksburg\, Helotes and New Braunfels. Our networking events are friendly and informative\, and offer plenty of time to shake hands and meet new people. Don't just collect business cards\, make a lasting connection with other like-minded people building their business through personal relationships that start at the Chamber!\n\n\n\nYour registration includes lunch catered by Chilito's Express Latin Fusion Catering.
X-ALT-DESC;FMTTYPE=text/html:Don&#39\;t miss our upcoming Hill Country Networking Lunch presented by <a href="https://business.boerne.org/list/member/centennial-bank-6189">Centennial Bank</a>!<br />\n<br />\nJoin more than 100 area business leaders at one of the Chamber&rsquo\;s most popular events and make new connections from all over the Hill Country\, including Boerne\, Bulverde\, Canyon Lake\, Comfort\, Fredericksburg\, Helotes and New Braunfels. Our networking events are friendly and informative\, and offer plenty of time to shake hands and meet new people. Don&#39\;t just collect business cards\, make a lasting connection with other like-minded people building their business through personal relationships that start at the Chamber!<br />\n<br />\nYour registration includes lunch catered by <a href="https://business.boerne.org/list/member/chilito-s-express-latin-fusion-catering-18827">Chilito&#39\;s Express Latin Fusion Catering</a>.
LOCATION:The Cana Ballroom 202 W. Kronkosky St. Boerne\, TX 78006
UID:e.187.15325
SEQUENCE:3
DTSTAMP:20260419T210240Z
URL:https://business.boerne.org/events/details/hill-country-networking-lunch-presented-by-centennial-bank-15325
END:VEVENT

END:VCALENDAR
