BEGIN:VCALENDAR
VERSION:2.0
PRODID:-//ChamberMaster//Event Calendar 2.0//EN
METHOD:PUBLISH
X-PUBLISHED-TTL:P3D
REFRESH-INTERVAL:P3D
CALSCALE:GREGORIAN
BEGIN:VEVENT
DTSTART:20191102T130000Z
DTEND:20191102T170000Z
X-MICROSOFT-CDO-ALLDAYEVENT:FALSE
SUMMARY:Hill Country Montessori Middle School Garage Sale
DESCRIPTION:Hill Country Montessori Middle School Garage Sale Fundraiser
X-ALT-DESC;FMTTYPE=text/html:Hill Country Montessori Middle School Garage Sale Fundraiser
LOCATION:Hill Country Montessori School
UID:e.187.17112
SEQUENCE:3
DTSTAMP:20260419T223449Z
URL:https://business.boerne.org/events/details/hill-country-montessori-middle-school-garage-sale-17112
END:VEVENT

END:VCALENDAR
