BEGIN:VCALENDAR
VERSION:2.0
PRODID:-//ChamberMaster//Event Calendar 2.0//EN
METHOD:PUBLISH
X-PUBLISHED-TTL:P3D
REFRESH-INTERVAL:P3D
CALSCALE:GREGORIAN
BEGIN:VEVENT
DTSTART:20260321T150000Z
DTEND:20260321T200000Z
X-MICROSOFT-CDO-ALLDAYEVENT:FALSE
SUMMARY:Hill Country Literary Festival
DESCRIPTION:Join us for a full day of author panels\, book sales\, workshops\, and more! All events\, programs\, and activities are free. Books must be purchased from Nowhere Bookshop\, our bookseller\, or directly from the authors on-site. Find more information and a full schedule of events on the Festival website(hillcountryliteraryfestival.org) or email litfest@mfplibrary.org.
X-ALT-DESC;FMTTYPE=text/html:Join us for a full day of author panels\, book sales\, workshops\, and more! All events\, programs\, and activities are free. Books must be purchased from Nowhere Bookshop\, our bookseller\, or directly from the authors on-site. Find more information and a full schedule of events on the Festival website(hillcountryliteraryfestival.org) or email litfest@mfplibrary.org.
LOCATION:Mammen Family Public Library 131 Bulverde Crossing Bulverde\, TX 78163
UID:e.187.32259
SEQUENCE:3
DTSTAMP:20260420T070930Z
URL:https://business.boerne.org/events/details/hill-country-literary-festival-32259
END:VEVENT

END:VCALENDAR
