BEGIN:VCALENDAR
VERSION:2.0
PRODID:-//ChamberMaster//Event Calendar 2.0//EN
METHOD:PUBLISH
X-PUBLISHED-TTL:P3D
REFRESH-INTERVAL:P3D
CALSCALE:GREGORIAN
BEGIN:VEVENT
DTSTART:20250126T000000Z
DTEND:20250126T040000Z
X-MICROSOFT-CDO-ALLDAYEVENT:FALSE
SUMMARY:Hill Country Houndin' Concert hosted by Greyhound Athletic Booster Club
DESCRIPTION:The Hill Country Houndin' is a Greyhound fan favorite fundraiser and is coming up on Saturday\, January 25th at 6pm! The Greyhound Athletic Booster Club - GABC is still looking for Event Sponsors and Donations for their silent auction. Contact admin@gohoundsgo.org or call 830-446-3438 for all sponsorship information. VIP Tables are only $1\,000 and includes a seat for 8 guests! \n\n\n\nGet your tickets here: https://www.gohoundsgo.org/hill-country-houndin
X-ALT-DESC;FMTTYPE=text/html:<span style="white-space-collapse: preserve\;">The Hill Country Houndin&#39\; is a Greyhound fan favorite fundraiser and is coming up on Saturday\, January 25th at 6pm! The </span><span class="xv78j7m" spellcheck="false" style="white-space-collapse: preserve\;">Greyhound Athletic Booster Club - GABC</span><span style="white-space-collapse: preserve\;"> is still looking for Event Sponsors and Donations for their silent auction. Contact admin@gohoundsgo.org or call 830-446-3438 for all sponsorship information. VIP Tables are only $1\,000 and includes a seat for 8 guests! </span><br />\n<br />\n<span style="white-space-collapse: preserve\;">Get your tickets here: </span><a class="x1fey0fg xmper1u x1edh9d7" href="https://www.gohoundsgo.org/hill-country-houndin"><span style="white-space-collapse: preserve\;">https://www.gohoundsgo.org/hill-country-houndin</span></a>
LOCATION:Anhalt Hall 2390 Anhalt Rd. Spring Branch\, TX 78070
UID:e.187.29072
SEQUENCE:3
DTSTAMP:20260423T052513Z
URL:https://business.boerne.org/events/details/hill-country-houndin-concert-hosted-by-greyhound-athletic-booster-club-29072
END:VEVENT

END:VCALENDAR
