BEGIN:VCALENDAR
VERSION:2.0
PRODID:-//ChamberMaster//Event Calendar 2.0//EN
METHOD:PUBLISH
X-PUBLISHED-TTL:P3D
REFRESH-INTERVAL:P3D
CALSCALE:GREGORIAN
BEGIN:VEVENT
DTSTART:20250523T210000Z
DTEND:20250525T010000Z
X-MICROSOFT-CDO-ALLDAYEVENT:FALSE
SUMMARY:Hill Country Art and Wine Festival
DESCRIPTION:Sixty plus artists showcasing amazing works for sale. Food booths and Wineries will be on hand for a taste of Texas. Live music\, kids area and student art exhibit\, Friday 4-8 wine tasting with 6pm live art auction with works from artists like Peter Max\, Wyland\, Dali\, Mouly\, and many\, many more. Free parking. Pet friendly.
X-ALT-DESC;FMTTYPE=text/html:Sixty plus artists showcasing amazing works for sale. Food booths and Wineries will be on hand for a taste of Texas. Live music\, kids area and student art exhibit\, Friday 4-8 wine tasting with 6pm live art auction with works from artists like Peter Max\, Wyland\, Dali\, Mouly\, and many\, many more. Free parking. Pet friendly.
LOCATION:Main Plaza downtown Boerne.
UID:e.187.29837
SEQUENCE:3
DTSTAMP:20260419T143814Z
URL:https://business.boerne.org/events/details/hill-country-art-and-wine-festival-29837
END:VEVENT

END:VCALENDAR
