BEGIN:VCALENDAR
VERSION:2.0
PRODID:-//ChamberMaster//Event Calendar 2.0//EN
METHOD:PUBLISH
X-PUBLISHED-TTL:P3D
REFRESH-INTERVAL:P3D
CALSCALE:GREGORIAN
BEGIN:VEVENT
DTSTART:20241020T190000Z
DTEND:20241020T230000Z
X-MICROSOFT-CDO-ALLDAYEVENT:FALSE
SUMMARY:Herff Farm Open House
DESCRIPTION:Getting married or know someone who is? Join us for a magical open house at The Cibolo! Discover the perfect setting for your special day surrounded by the beauty of nature. You're invited to explore our enchanting event spaces\, meet with local vendors\, and envision your wedding at The Cibolo.
X-ALT-DESC;FMTTYPE=text/html:<h2><span style="font-size:13px">Getting married or know someone who is? Join us for a magical open house at The Cibolo! Discover the perfect setting for your special day surrounded by the beauty of nature. You&rsquo\;re invited to explore our enchanting event spaces\, meet with local vendors\, and envision your wedding at The Cibolo.</span></h2>\n
LOCATION:The Historic Herff Farm 33 Herff Rd\, Boerne\, TX 78006
UID:e.187.28705
SEQUENCE:3
DTSTAMP:20260419T162523Z
URL:https://business.boerne.org/events/details/herff-farm-open-house-28705
END:VEVENT

END:VCALENDAR
