BEGIN:VCALENDAR
VERSION:2.0
PRODID:-//ChamberMaster//Event Calendar 2.0//EN
METHOD:PUBLISH
X-PUBLISHED-TTL:P3D
REFRESH-INTERVAL:P3D
CALSCALE:GREGORIAN
BEGIN:VEVENT
DTSTART:20240910T170000Z
DTEND:20240910T180000Z
X-MICROSOFT-CDO-ALLDAYEVENT:FALSE
SUMMARY:Healthcare Committee Monthly Meeting
DESCRIPTION:*The September meeting will be pushed back 1 week due to the Labor Day weekend.\n\n\n\nThe mission of the Healthcare Committee Monthly Luncheon is to foster business and professional development relationships through regular meetings for the purpose of improving patient care while supporting community partners in healthcare. Members educate the group about their unique skills\, products\, and services and actively refer patients to each other.  We also encourage members to meet one-on-one outside the regular meeting times.\n\n\n\nHealthcare Committee members must work in a direct patient care setting. \n\n\n\nPlease email steely@boerne.org for additional information.
X-ALT-DESC;FMTTYPE=text/html:*The September meeting will be pushed back 1 week due to the Labor Day weekend.<br />\n<br />\nThe mission of the Healthcare Committee Monthly Luncheon is to foster business and professional development relationships through regular meetings for the purpose of improving patient care while supporting community partners in healthcare. Members educate the group about their unique skills\, products\, and services and actively refer patients to each other.&nbsp\; We also encourage members to meet one-on-one outside the regular meeting times.<br />\n<br />\n<strong>Healthcare Committee members must work in a direct patient care setting.&nbsp\;</strong><br />\n<br />\nPlease email steely@boerne.org for additional information.&nbsp\;
LOCATION:Please email steely@boerne.org for additional location and meeting information.
UID:e.187.18742
SEQUENCE:3
DTSTAMP:20260419T181721Z
URL:https://business.boerne.org/events/details/healthcare-connections-monthly-meeting-09-03-2024-18742
END:VEVENT

END:VCALENDAR
