BEGIN:VCALENDAR
VERSION:2.0
PRODID:-//ChamberMaster//Event Calendar 2.0//EN
METHOD:PUBLISH
X-PUBLISHED-TTL:P3D
REFRESH-INTERVAL:P3D
CALSCALE:GREGORIAN
BEGIN:VEVENT
DTSTART:20230103T180000Z
DTEND:20230103T190000Z
X-MICROSOFT-CDO-ALLDAYEVENT:FALSE
SUMMARY:Healthcare Connections Monthly Meeting
DESCRIPTION:**We will NOT be having our Healthcare Connections meeting in January 2023. These will start back up in February**\n\n\n\nThe mission of the Healthcare Connections Monthly Luncheon is to foster business and professional development relationships through regular meetings for the purpose of improving patient care while supporting community partners in healthcare. Members educate the group about their unique skills\, products\, and services and actively refer patients to each other.  We also encourage members to meet one-on-one outside the regular meeting times.\n\n\n\nHealthcare Connection members must work in a direct patient care setting. \n\n\n\nPlease email steely@boerne.org for additional information.
X-ALT-DESC;FMTTYPE=text/html:<span style="color:#FF0000\;"><strong>**We will NOT be having our Healthcare Connections meeting in January 2023. These will start back up in February**</strong></span><br />\n<br />\nThe mission of the Healthcare Connections Monthly Luncheon is to foster business and professional development relationships through regular meetings for the purpose of improving patient care while supporting community partners in healthcare. Members educate the group about their unique skills\, products\, and services and actively refer patients to each other.&nbsp\; We also encourage members to meet one-on-one outside the regular meeting times.<br />\n<br />\n<strong>Healthcare Connection&nbsp\;members must work in a direct patient care setting.&nbsp\;</strong><br />\n<br />\nPlease email steely@boerne.org for additional information.&nbsp\;
LOCATION:Please email steely@boerne.org for additional location and meeting information.
UID:e.187.18722
SEQUENCE:3
DTSTAMP:20260423T071918Z
URL:https://business.boerne.org/events/details/healthcare-connections-monthly-meeting-01-03-2023-18722
END:VEVENT

END:VCALENDAR
