BEGIN:VCALENDAR
VERSION:2.0
PRODID:-//ChamberMaster//Event Calendar 2.0//EN
METHOD:PUBLISH
X-PUBLISHED-TTL:P3D
REFRESH-INTERVAL:P3D
CALSCALE:GREGORIAN
BEGIN:VEVENT
DTSTART:20191203T180000Z
DTEND:20191203T190000Z
X-MICROSOFT-CDO-ALLDAYEVENT:FALSE
SUMMARY:Healthcare Connection
DESCRIPTION:Our December Healthcare Connection is presented by Graser Podiatry & Bunion Surgery Institute!\n\n\n\nGet on your feet! Dr. Robert Graser will be discussing common foot problems he treats including bunions\, wounds\, sports injuries and more.\n\n\n\nHealthcare Connection fosters business and professional development relationships through regular meetings for the purpose of improving patient care while supporting community partners in healthcare. Members educate the group about their unique skills\, products\, and services and actively refer patients to each other. We also encourage members to meet one-on-one outside the regular meeting times.
X-ALT-DESC;FMTTYPE=text/html:Our December Healthcare Connection is presented by <a href="https://business.boerne.org/list/member/graser-podiatry-bunion-surgery-institute-18807">Graser Podiatry &amp\; Bunion Surgery Institute</a>!<br />\n<br />\nGet on your feet! Dr. Robert Graser will be discussing common foot problems he treats including bunions\, wounds\, sports injuries and more.<br />\n<br />\nHealthcare Connection fosters business and professional development relationships through regular meetings for the purpose of improving patient care while supporting community partners in healthcare. Members educate the group about their unique skills\, products\, and services and actively refer patients to each other. We also encourage members to meet one-on-one outside the regular meeting times.
LOCATION:17 Old San Antonio Rd.\, Ste. 201 Boerne\, TX 78006
UID:e.187.16942
SEQUENCE:3
DTSTAMP:20260425T214842Z
URL:https://business.boerne.org/events/details/healthcare-connection-16942
END:VEVENT

END:VCALENDAR
