BEGIN:VCALENDAR
VERSION:2.0
PRODID:-//ChamberMaster//Event Calendar 2.0//EN
METHOD:PUBLISH
X-PUBLISHED-TTL:P3D
REFRESH-INTERVAL:P3D
CALSCALE:GREGORIAN
BEGIN:VEVENT
DTSTART:20191105T180000Z
DTEND:20191105T190000Z
X-MICROSOFT-CDO-ALLDAYEVENT:FALSE
SUMMARY:Healthcare Connection
DESCRIPTION:Our November Healthcare Connection is presented by Estes Audiology Hearing Centers! Listen Up! Rachel Higginbotham\, Au.D. will give an overview on hearing loss and comorbidities as well as a tips for effectively communicating with patients with hearing loss.\n\n\n\nHealthcare Connection fosters business and professional development relationships through regular meetings for the purpose of improving patient care while supporting community partners in healthcare. Members educate the group about their unique skills\, products\, and services and actively refer patients to each other. We also encourage members to meet one-on-one outside the regular meeting times.
X-ALT-DESC;FMTTYPE=text/html:Our November Healthcare Connection is presented by <a href="https://business.boerne.org/list/member/estes-audiology-hearing-centers-6460">Estes Audiology Hearing Centers</a>! Listen Up! Rachel Higginbotham\, Au.D. will give an overview on hearing loss and comorbidities as well as a tips for effectively communicating with patients with hearing loss.<br />\n<br />\nHealthcare Connection fosters business and professional development relationships through regular meetings for the purpose of improving patient care while supporting community partners in healthcare. Members educate the group about their unique skills\, products\, and services and actively refer patients to each other. We also encourage members to meet one-on-one outside the regular meeting times.
LOCATION:1112 South Main St.\, Ste. B Boerne\, TX 78006
UID:e.187.16941
SEQUENCE:3
DTSTAMP:20260419T222220Z
URL:https://business.boerne.org/events/details/healthcare-connection-16941
END:VEVENT

END:VCALENDAR
