BEGIN:VCALENDAR
VERSION:2.0
PRODID:-//ChamberMaster//Event Calendar 2.0//EN
METHOD:PUBLISH
X-PUBLISHED-TTL:P3D
REFRESH-INTERVAL:P3D
CALSCALE:GREGORIAN
BEGIN:VEVENT
DTSTART:20191001T170000Z
DTEND:20191001T180000Z
X-MICROSOFT-CDO-ALLDAYEVENT:FALSE
SUMMARY:Healthcare Connection
DESCRIPTION:Our October Healthcare Connection is presented by Crest Home Health! VFW Members\, Dr. Arkangel and John Thomas will present the facts on the Veterans Community Care Program. The U.S. Department of Veterans Affairs (VA) launched its new and improved Veterans Community Care Program on June 6\, 2019\, implementing portions of the VA Maintaining Internal Systems and Strengthening Integrated Outside Networks Act of 2018 (MISSION Act)\, which both ends the Veterans Choice Program and establishes a new Veterans Community Care Program.\n\n\n\nHealthcare Connection fosters business and professional development relationships through regular meetings for the purpose of improving patient care while supporting community partners in healthcare. Members educate the group about their unique skills\, products\, and services and actively refer patients to each other. We also encourage members to meet one-on-one outside the regular meeting times.
X-ALT-DESC;FMTTYPE=text/html:Our October Healthcare Connection is presented by <a href="https://business.boerne.org/list/member/crest-home-health-10290">Crest Home Health</a>! VFW Members\, Dr. Arkangel and John Thomas will present the facts on the Veterans Community Care Program.&nbsp\;The U.S. Department of Veterans Affairs (VA) launched its new and improved Veterans Community Care Program on June 6\, 2019\, implementing portions of the VA Maintaining Internal Systems and Strengthening Integrated Outside Networks Act of 2018 (MISSION Act)\, which both ends the Veterans Choice Program and establishes a new Veterans Community Care Program.<br />\n<br />\nHealthcare Connection fosters business and professional development relationships through regular meetings for the purpose of improving patient care while supporting community partners in healthcare. Members educate the group about their unique skills\, products\, and services and actively refer patients to each other. We also encourage members to meet one-on-one outside the regular meeting times.
LOCATION:Boerne Chamber of Commerce Boardroom 121 S. Main St. Boerne\, TX 78006
UID:e.187.16777
SEQUENCE:3
DTSTAMP:20260419T191215Z
URL:https://business.boerne.org/events/details/healthcare-connection-16777
END:VEVENT

END:VCALENDAR
