BEGIN:VCALENDAR
VERSION:2.0
PRODID:-//ChamberMaster//Event Calendar 2.0//EN
METHOD:PUBLISH
X-PUBLISHED-TTL:P3D
REFRESH-INTERVAL:P3D
CALSCALE:GREGORIAN
BEGIN:VEVENT
DTSTART:20190604T170000Z
DTEND:20190604T180000Z
X-MICROSOFT-CDO-ALLDAYEVENT:FALSE
SUMMARY:Healthcare Connection
DESCRIPTION:Healthcare Connection fosters business and professional development relationships through regular meetings for the purpose of improving patient care while supporting community partners in healthcare. Members educate the group about their unique skills\, products\, and services and actively refer patients to each other. We also encourage members to meet one-on-one outside the regular meeting times.
X-ALT-DESC;FMTTYPE=text/html:Healthcare Connection fosters business and professional development relationships through regular meetings for the purpose of improving patient care while supporting community partners in healthcare. Members educate the group about their unique skills\, products\, and services and actively refer patients to each other. We also encourage members to meet one-on-one outside the regular meeting times.
LOCATION:Airrosti Rehab Center 1018 River Rd. Boerne\, Texas 78006
UID:e.187.16385
SEQUENCE:3
DTSTAMP:20260419T143240Z
URL:https://business.boerne.org/events/details/healthcare-connection-16385
END:VEVENT

END:VCALENDAR
