BEGIN:VCALENDAR
VERSION:2.0
PRODID:-//ChamberMaster//Event Calendar 2.0//EN
METHOD:PUBLISH
X-PUBLISHED-TTL:P3D
REFRESH-INTERVAL:P3D
CALSCALE:GREGORIAN
BEGIN:VEVENT
DTSTART:20251108T233000Z
DTEND:20251109T050000Z
X-MICROSOFT-CDO-ALLDAYEVENT:FALSE
SUMMARY:HCCA Cinema
DESCRIPTION:Introducing HCCA Cinema! We're thrilled to announce the Hill Country Council for the Arts' newest program   HCCA Cinema\, dedicated to bringing the art of film to our community.\n\n\n\nJoin them for the first Independent Film Screening on November 8th from 5:30 11 PM at 102 City Park Rd\, Boerne!   \n\n\n\n   $5 entry | All ages welcome\n\n  Independent films from local creators\n\n  Bring lawn chairs\, blankets\, and your favorite drink   snacks and water available for purchase.\n\n\n\nLet's celebrate creativity\, community\, and storytelling through cinema.
X-ALT-DESC;FMTTYPE=text/html:<span class="x1xsqp64 xiy17q3 x1o6pynw x19co3pv xdj266r xjn30re xat24cr x1hb08if x2b8uid" data-testid="emoji" style="cursor: default\; background-image: url(&quot\;https://static.xx.fbcdn.net/images/emoji.php/v9/t2d/1/16/1f3ac.png&quot\;)\; background-size: 16px 16px\; white-space-collapse: preserve\;"><span class="xexx8yu xcaqkgz x18d9i69 xbwkkl7 x3jgonx x1bhl96m">&#127916\;</span></span><span style="white-space-collapse: preserve\;"> Introducing HCCA Cinema! We&rsquo\;re thrilled to announce the </span><span class="xv78j7m" spellcheck="false" style="white-space-collapse: preserve\;">Hill Country Council for the Arts</span><span style="white-space-collapse: preserve\;">&rsquo\; newest program &mdash\; HCCA Cinema\, dedicated to bringing the art of film to our community.</span><br />\n<br />\n<span style="white-space-collapse: preserve\;">Join them for the first Independent Film Screening on November 8th from 5:30&ndash\;11 PM at 102 City Park Rd\, Boerne! </span><span class="x1xsqp64 xiy17q3 x1o6pynw x19co3pv xdj266r xjn30re xat24cr x1hb08if x2b8uid" data-testid="emoji" style="cursor: default\; background-image: url(&quot\;https://static.xx.fbcdn.net/images/emoji.php/v9/t33/1/16/1f319.png&quot\;)\; background-size: 16px 16px\; white-space-collapse: preserve\;"><span class="xexx8yu xcaqkgz x18d9i69 xbwkkl7 x3jgonx x1bhl96m">&#127769\;</span></span><span class="x1xsqp64 xiy17q3 x1o6pynw x19co3pv xdj266r xjn30re xat24cr x1hb08if x2b8uid" data-testid="emoji" style="cursor: default\; background-image: url(&quot\;https://static.xx.fbcdn.net/images/emoji.php/v9/tf4/1/16/2728.png&quot\;)\; background-size: 16px 16px\; white-space-collapse: preserve\;"><span class="xexx8yu xcaqkgz x18d9i69 xbwkkl7 x3jgonx x1bhl96m">&#10024\;</span></span><br />\n<br />\n<span class="x1xsqp64 xiy17q3 x1o6pynw x19co3pv xdj266r xjn30re xat24cr x1hb08if x2b8uid" data-testid="emoji" style="cursor: default\; background-image: url(&quot\;https://static.xx.fbcdn.net/images/emoji.php/v9/td8/1/16/1f39f.png&quot\;)\; background-size: 16px 16px\; white-space-collapse: preserve\;"><span class="xexx8yu xcaqkgz x18d9i69 xbwkkl7 x3jgonx x1bhl96m">&#127903\;&#65039\;</span></span><span style="white-space-collapse: preserve\;"> $5 entry | All ages welcome</span><br />\n<span class="x1xsqp64 xiy17q3 x1o6pynw x19co3pv xdj266r xjn30re xat24cr x1hb08if x2b8uid" data-testid="emoji" style="cursor: default\; background-image: url(&quot\;https://static.xx.fbcdn.net/images/emoji.php/v9/t2d/1/16/1f3ac.png&quot\;)\; background-size: 16px 16px\; white-space-collapse: preserve\;"><span class="xexx8yu xcaqkgz x18d9i69 xbwkkl7 x3jgonx x1bhl96m">&#127916\;</span></span><span style="white-space-collapse: preserve\;"> Independent films from local creators</span><br />\n<span class="x1xsqp64 xiy17q3 x1o6pynw x19co3pv xdj266r xjn30re xat24cr x1hb08if x2b8uid" data-testid="emoji" style="cursor: default\; background-image: url(&quot\;https://static.xx.fbcdn.net/images/emoji.php/v9/t9a/1/16/1f37f.png&quot\;)\; background-size: 16px 16px\; white-space-collapse: preserve\;"><span class="xexx8yu xcaqkgz x18d9i69 xbwkkl7 x3jgonx x1bhl96m">&#127871\;</span></span><span style="white-space-collapse: preserve\;"> Bring lawn chairs\, blankets\, and your favorite drink &mdash\; snacks and water available for purchase.</span><br />\n<br />\n<span style="white-space-collapse: preserve\;">Let&rsquo\;s celebrate creativity\, community\, and storytelling through cinema. </span><span class="x1xsqp64 xiy17q3 x1o6pynw x19co3pv xdj266r xjn30re xat24cr x1hb08if x2b8uid" data-testid="emoji" style="cursor: default\; background-image: url(&quot\;https://static.xx.fbcdn.net/images/emoji.php/v9/ted/1/16/1f4ab.png&quot\;)\; background-size: 16px 16px\; white-space-collapse: preserve\;"><span class="xexx8yu xcaqkgz x18d9i69 xbwkkl7 x3jgonx x1bhl96m">&#128171\;</span></span>
LOCATION:102 City Park Rd. Boerne\, TX 78006
UID:e.187.31959
SEQUENCE:3
DTSTAMP:20260420T002217Z
URL:https://business.boerne.org/events/details/hcca-cinema-31959
END:VEVENT

END:VCALENDAR
