BEGIN:VCALENDAR
VERSION:2.0
PRODID:-//ChamberMaster//Event Calendar 2.0//EN
METHOD:PUBLISH
X-PUBLISHED-TTL:P3D
REFRESH-INTERVAL:P3D
CALSCALE:GREGORIAN
BEGIN:VEVENT
DTSTART:20241019T151500Z
DTEND:20241019T163000Z
X-MICROSOFT-CDO-ALLDAYEVENT:FALSE
SUMMARY:GSKC General Meeting
DESCRIPTION:Join the Genealogical Society of Kendall County for their General Meeting on October 19\, 2024.\n\n\n\nThis month's meeting will tackle German research and changing borders.
X-ALT-DESC;FMTTYPE=text/html:Join the Genealogical Society of Kendall County for their General Meeting on October 19\, 2024.<br />\n<br />\nThis month&#39\;s meeting will tackle German research and changing borders.
LOCATION:Patrick Heath Public Library 451 N Main Boerne\, TX 78006
UID:e.187.28714
SEQUENCE:3
DTSTAMP:20260419T162527Z
URL:https://business.boerne.org/events/details/gskc-general-meeting-28714
END:VEVENT

END:VCALENDAR
