BEGIN:VCALENDAR
VERSION:2.0
PRODID:-//ChamberMaster//Event Calendar 2.0//EN
METHOD:PUBLISH
X-PUBLISHED-TTL:P3D
REFRESH-INTERVAL:P3D
CALSCALE:GREGORIAN
BEGIN:VEVENT
DTSTART:20250408T163000Z
DTEND:20250408T170000Z
X-MICROSOFT-CDO-ALLDAYEVENT:FALSE
SUMMARY:Groundbreaking for Vic Vaughan Toyota of Boerne Service Center
DESCRIPTION:Join us for a groundbreaking celebrating the Vic Vaughan Toyota of Boerne State-of-the-Art Service Center Renovation!\n\n\n\nVic Vaughan Toyota of Boerne is thrilled to announce a major renovation of its service center\, marking a new era of innovation\, efficiency\, and customer care. This cutting-edge transformation is designed to elevate the service experience\, providing faster\, more convenient\, and high-tech solutions to meet the growing needs of Toyota owners in Boerne and beyond.\n\n\n\n"Our commitment to excellence drives everything we do\, and this renovation is a testament to that promise\," said Shawn Vaughan\, CEO/Dealer Principal at Toyota of Boerne. "We are investing in the future of vehicle service\, ensuring that our customers receive the most advanced care available."\n\n\n\nThe newly upgraded service center will feature state-of-the-art diagnostic technology\, an expanded number of service bays for quicker turnaround times\, and a more comfortable and customer-friendly lounge. Guests will enjoy enhanced amenities\, including a modern waiting area with complimentary Wi-Fi\, refreshments\, and a dedicated workspace for those on the go.\n\n\n\nFrom routine maintenance to complex repairs\, the upgraded facility will ensure that every vehicle receives the highest level of service with Toyota-certified technicians using the latest in automotive technology. The renovations are expected to be completed in 18 to 22 months\, with the service center remaining operational throughout the process to continue serving customers without interruption.\n\n\n\nVic Vaughan Toyota of Boerne invites current and future customers to stay tuned for more updates as the dealership embarks on this groundbreaking transformation. With a focus on innovation and an unwavering commitment to customer satisfaction\, this new service center will redefine what it means to experience first-class automotive care.\n\n\n\nWEBSITE: https://www.toyotaofboerne.com/\n\nPHONE: (726) 222-1164\n\nLOCATION: 31205 IH 10 W. Frontage Road\, Boerne\, TX 78006
X-ALT-DESC;FMTTYPE=text/html:<span style="font-family:arial\;"><span style="color:#000000\;">Join us for a groundbreaking celebrating the Vic Vaughan Toyota of Boerne State-of-the-Art Service Center Renovation!</span></span><br />\n<br />\n<span style="color:black\;"><span style="font-size:11.0pt\;">Vic Vaughan Toyota of Boerne is thrilled to announce a major renovation of its service center\, marking a new era of innovation\, efficiency\, and customer care. This cutting-edge transformation is designed to elevate the service experience\, providing faster\, more convenient\, and high-tech solutions to meet the growing needs of Toyota owners in Boerne and beyond.</span></span><br />\n<br />\n<span style="color:black\;"><span style="font-size:11.0pt\;">&ldquo\;Our commitment to excellence drives everything we do\, and this renovation is a testament to that promise\,&rdquo\; said Shawn Vaughan\, CEO/Dealer Principal at Toyota of Boerne. &ldquo\;We are investing in the future of vehicle service\, ensuring that our customers receive the most advanced care available.&rdquo\;</span></span><br />\n<br />\n<span style="color:black\;"><span style="font-size:11.0pt\;">The newly upgraded service center will feature state-of-the-art diagnostic technology\, an expanded number of service bays for quicker turnaround times\, and a more comfortable and customer-friendly lounge. Guests will enjoy enhanced amenities\, including a modern waiting area with complimentary Wi-Fi\, refreshments\, and a dedicated workspace for those on the go.</span></span><br />\n<br />\n<span style="color:black\;"><span style="font-size:11.0pt\;">From routine maintenance to complex repairs\, the upgraded facility will ensure that every vehicle receives the highest level of service with Toyota-certified technicians using the latest in automotive technology. The renovations are&nbsp\;expected to be completed in 18 to 22 months\,&nbsp\;with the service center remaining operational throughout the process to continue serving customers without interruption.</span></span><br />\n<br />\n<span style="color:black\;"><span style="font-size:11.0pt\;">Vic Vaughan Toyota of Boerne invites current and future customers to stay tuned for more updates as the dealership embarks on this&nbsp\;groundbreaking transformation. With a focus on innovation and an unwavering commitment to customer satisfaction\, this new service center will redefine what it means to experience first-class automotive care.</span></span><br />\n<br />\n<span style="font-family:arial\;"><span style="color:#000000\;">WEBSITE:&nbsp\;</span></span><u><span style="color:blue\;"><span style="font-family:aptos\,sans-serif\;"><span style="font-size:11.0pt\;"><a href="https://nam10.safelinks.protection.outlook.com/?url=https%3A%2F%2Fwww.toyotaofboerne.com%2F&amp\;data=05%7C02%7Csteely%40boerne.org%7C70daf516a4134a6c07f008dd61a36006%7C8d825765118643cc86dbca64defef9a2%7C0%7C0%7C638774076535520287%7CUnknown%7CTWFpbGZsb3d8eyJFbXB0eU1hcGkiOnRydWUsIlYiOiIwLjAuMDAwMCIsIlAiOiJXaW4zMiIsIkFOIjoiTWFpbCIsIldUIjoyfQ%3D%3D%7C0%7C%7C%7C&amp\;sdata=tvAucLqjCb%2FCwmlmoyFJLBdiN72flahXNHDdads1QvM%3D&amp\;reserved=0" title="Original URL: https://www.toyotaofboerne.com/. Click or tap if you trust this link.">https://www.toyotaofboerne.com/</a></span></span></span></u><br />\n<span style="font-family:arial\;"><span style="color:#000000\;">PHONE:&nbsp\;(726) 222-1164<br />\nLOCATION: 31205 IH 10 W. Frontage Road\, Boerne\, TX 78006</span></span>
LOCATION:Vic Vaughan Toyota of Boerne 31205 IH 10 W. Frontage Road Boerne\, TX 78006
UID:e.187.29215
SEQUENCE:3
DTSTAMP:20260419T143919Z
URL:https://business.boerne.org/events/details/groundbreaking-for-vic-vaughan-toyota-of-boerne-service-center-29215
END:VEVENT

END:VCALENDAR
