BEGIN:VCALENDAR
VERSION:2.0
PRODID:-//ChamberMaster//Event Calendar 2.0//EN
METHOD:PUBLISH
X-PUBLISHED-TTL:P3D
REFRESH-INTERVAL:P3D
CALSCALE:GREGORIAN
BEGIN:VEVENT
DTSTART:20180510T150000Z
DTEND:20180510T160000Z
X-MICROSOFT-CDO-ALLDAYEVENT:FALSE
SUMMARY:Groundbreaking for the New Boerne City Hall
DESCRIPTION:Come join us for a Groundbreaking for the New Boerne City Hall.
X-ALT-DESC;FMTTYPE=text/html:Come join us for a Groundbreaking for the New Boerne City Hall.&nbsp\;
LOCATION:451 North Main Boerne\, TX 78006 Park in the Field
UID:e.187.13685
SEQUENCE:3
DTSTAMP:20260420T093424Z
URL:https://business.boerne.org/events/details/groundbreaking-for-the-new-boerne-city-hall-13685
END:VEVENT

END:VCALENDAR
