BEGIN:VCALENDAR
VERSION:2.0
PRODID:-//ChamberMaster//Event Calendar 2.0//EN
METHOD:PUBLISH
X-PUBLISHED-TTL:P3D
REFRESH-INTERVAL:P3D
CALSCALE:GREGORIAN
BEGIN:VEVENT
DTSTART:20180130T173000Z
DTEND:20180130T180000Z
X-MICROSOFT-CDO-ALLDAYEVENT:FALSE
SUMMARY:Groundbreaking for The Cottages on Oak Park with Mike Nichols Homes
DESCRIPTION:Come join us for the groundbreaking for The Cottages on Oak Park with Mike Nichols Homes. Green Builder & Remodeler.  (link) There will be chili\, refreshments and adult beverages served.
X-ALT-DESC;FMTTYPE=text/html:<span style="font-size:12px\;"><span style="font-family:arial\;">Come join us for the groundbreaking for The Cottages on Oak Park with <b style="color: rgb(0\, 0\, 0)\; font-family: Arial\, Helvetica\, &quot\;MS Sans Serif&quot\;\, sans-serif\; font-size: 11px\;">Mike Nichols Homes. Green Builder &amp\; Remodeler</b>.</span>&nbsp\; <a href="http://www.mikenicholshomes.com/">(link</a>) There will be chili\, refreshments and adult beverages served</span>.
LOCATION:530 Oak Park\, Boerne\, TX 78006 (map)
UID:e.187.13483
SEQUENCE:3
DTSTAMP:20260422T171959Z
URL:https://business.boerne.org/events/details/groundbreaking-for-the-cottages-on-oak-park-with-mike-nichols-homes-13483
END:VEVENT

END:VCALENDAR
