BEGIN:VCALENDAR
VERSION:2.0
PRODID:-//ChamberMaster//Event Calendar 2.0//EN
METHOD:PUBLISH
X-PUBLISHED-TTL:P3D
REFRESH-INTERVAL:P3D
CALSCALE:GREGORIAN
BEGIN:VEVENT
DTSTART:20250414T180000Z
DTEND:20250414T183000Z
X-MICROSOFT-CDO-ALLDAYEVENT:FALSE
SUMMARY:Groundbreaking for Boerne ER
DESCRIPTION:Join us for a groundbreaking to celebrate Boerne Emergency Room!\n\n\n\nBoerne Emergency Room is excited to serve our community! They're planning to open their doors in late 2025 with a full staff of doctors!\n\n\n\nWEBSITE: Boerne Emergency Room | boerneemergencyroom.com \n\nLOCATION: 103 Gallant Fox Lane\, Boerne\, TX 78006\n\n\n\nCorner of Herff Rd and Gallant Fox\, immediately in front of Estraya Boerne Apartments.
X-ALT-DESC;FMTTYPE=text/html:<span style="color:#000000\;"><font face="arial"><span style="font-size: 14px\;">Join us for a groundbreaking to celebrate Boerne Emergency Room!</span></font></span><br />\n<br />\n<span style="color:#000000\;"><span style="font-size:14px\;"><span style="font-family:arial\;">Boerne Emergency Room is excited to serve our community! They&#39\;re planning to open their doors in late 2025 with</span></span></span><span style="color: rgb(0\, 0\, 0)\; font-family: arial\; font-size: 14px\;">&nbsp\;a full staff of doctors!</span><br />\n<br />\n<span style="color:#000000\;"><span style="font-size:14px\;"><span style="font-family:arial\;">WEBSITE:&nbsp\;</span></span></span><a href="https://boerneemergencyroom.com/">Boerne Emergency Room | boerneemergencyroom.com&nbsp\;</a><br />\n<span style="color:#000000\;"><span style="font-size:14px\;"><span style="font-family:arial\;">LOCATION: 103 Gallant Fox Lane\, Boerne\, TX 78006<br />\n<br />\nCorner of Herff Rd and Gallant Fox\, immediately in front of Estraya Boerne Apartments.</span></span></span><br />\n<br />\n<br />\n<br />\n<br />\n&nbsp\;
LOCATION:Future site of Boerne Emergency Room 103 Gallant Fox Lane Boerne\, TX 78006 Corner of Herff Rd and Gallant Fox (immediately in front of Estraya Boerne Apartments) Boerne\, TX 78006
UID:e.187.29265
SEQUENCE:3
DTSTAMP:20260419T143214Z
URL:https://business.boerne.org/events/details/groundbreaking-for-boerne-er-29265
END:VEVENT

END:VCALENDAR
