BEGIN:VCALENDAR
VERSION:2.0
PRODID:-//ChamberMaster//Event Calendar 2.0//EN
METHOD:PUBLISH
X-PUBLISHED-TTL:P3D
REFRESH-INTERVAL:P3D
CALSCALE:GREGORIAN
BEGIN:VEVENT
DTSTART:20230123T220000Z
DTEND:20230123T223000Z
X-MICROSOFT-CDO-ALLDAYEVENT:FALSE
SUMMARY:Groundbreaking Ceremony for New Life Cosmetic Surgery & Wellness Center
DESCRIPTION:Join us in celebrating the groundbreaking for New Life Cosmetic Surgery & Wellness Center!\n\n\n\nNew Life Cosmetic Surgery & Wellness Center is looking forward to providing Boerne with the most innovative cosmetic procedures in their brand new\, fully accredited office-based surgery center! Dr. Daniel Lee is triple board certified in cosmetic surgery\, obstetrics and gynecology\, and family medicine. His excellent reputation in taking a holistic approach in caring for patients brings him clients from all over the state. They will offer treatments such as breast augmentations\, Morpheus\, IV therapy\, med spa services\, hormone replacement therapy and much more! To learn more about the company\, click here! \n\n\n\nTheir groundbreaking site will be on the corner of Waterview and Herff\, next to The Bevy.
X-ALT-DESC;FMTTYPE=text/html:Join us in celebrating the groundbreaking for New Life Cosmetic Surgery &amp\; Wellness Center!<br />\n<br />\nNew Life Cosmetic Surgery &amp\; Wellness Center is looking forward to providing Boerne with the most innovative cosmetic procedures in their brand new\, fully accredited office-based surgery center! Dr. Daniel Lee is triple board certified in cosmetic surgery\, obstetrics and gynecology\, and family medicine. His excellent reputation in taking a holistic approach in caring for patients brings him clients from all over the state. They will offer treatments such as breast augmentations\, Morpheus\, IV therapy\, med spa services\, hormone replacement therapy and much more! To learn more about the company\, <a href="https://nam10.safelinks.protection.outlook.com/?url=http%3A%2F%2Fwww.newlifeboerne.com%2F&amp\;data=05%7C01%7Csteely%40boerne.org%7C230ea0fdb8ed49b5629b08daf96a0057%7C8d825765118643cc86dbca64defef9a2%7C0%7C0%7C638096530916628459%7CUnknown%7CTWFpbGZsb3d8eyJWIjoiMC4wLjAwMDAiLCJQIjoiV2luMzIiLCJBTiI6Ik1haWwiLCJXVCI6Mn0%3D%7C3000%7C%7C%7C&amp\;sdata=Cq03a0mvC16umKQQAUOOPBoKyHYRyDB6yQ4QxVuqP2c%3D&amp\;reserved=0">click here!&nbsp\;</a><br />\n<br />\nTheir groundbreaking site will be on the corner of Waterview and Herff\, next to The Bevy.<br />\n<br />\n&nbsp\;
LOCATION:Build Site for New Life Cosmetic Surgery & Wellness Center 117 Waterview Pkwy Boerne\, TX. 78006
UID:e.187.20750
SEQUENCE:3
DTSTAMP:20260423T072620Z
URL:https://business.boerne.org/events/details/groundbreaking-ceremony-for-new-life-cosmetic-surgery-wellness-center-20750
END:VEVENT

END:VCALENDAR
