BEGIN:VCALENDAR
VERSION:2.0
PRODID:-//ChamberMaster//Event Calendar 2.0//EN
METHOD:PUBLISH
X-PUBLISHED-TTL:P3D
REFRESH-INTERVAL:P3D
CALSCALE:GREGORIAN
BEGIN:VEVENT
DTSTART:20170502T183000Z
DTEND:20170502T190000Z
X-MICROSOFT-CDO-ALLDAYEVENT:FALSE
SUMMARY:Ground Breaking Ceremony for Park 31
DESCRIPTION:Come join us for a Ground Breaking Ceremony for Park 31 (link)
X-ALT-DESC;FMTTYPE=text/html:Come join us for a Ground Breaking Ceremony for Park 31 (link)
LOCATION:1200 Park Rd 31 (map) Spring Branch\, TX 78070
UID:e.187.11629
SEQUENCE:3
DTSTAMP:20260423T040619Z
URL:https://business.boerne.org/events/details/ground-breaking-ceremony-for-park-31-11629
END:VEVENT

END:VCALENDAR
