BEGIN:VCALENDAR
VERSION:2.0
PRODID:-//ChamberMaster//Event Calendar 2.0//EN
METHOD:PUBLISH
X-PUBLISHED-TTL:P3D
REFRESH-INTERVAL:P3D
CALSCALE:GREGORIAN
BEGIN:VEVENT
DTSTART:20180521T150000Z
DTEND:20180521T160000Z
X-MICROSOFT-CDO-ALLDAYEVENT:FALSE
SUMMARY:Golf Tournament Meeting
DESCRIPTION:Golf recap meeting
X-ALT-DESC;FMTTYPE=text/html:Golf recap meeting
LOCATION:Chamber
UID:e.187.13916
SEQUENCE:3
DTSTAMP:20260422T085644Z
URL:https://business.boerne.org/events/details/golf-tournament-meeting-13916
END:VEVENT

END:VCALENDAR
