BEGIN:VCALENDAR
VERSION:2.0
PRODID:-//ChamberMaster//Event Calendar 2.0//EN
METHOD:PUBLISH
X-PUBLISHED-TTL:P3D
REFRESH-INTERVAL:P3D
CALSCALE:GREGORIAN
BEGIN:VEVENT
DTSTART:20240921T151500Z
DTEND:20240921T170000Z
X-MICROSOFT-CDO-ALLDAYEVENT:FALSE
SUMMARY:Genealogical Society of Kendall County September Program
DESCRIPTION:Finally! My DNA results! What now??\n\n\n\nJoin the Genealogical Society of Kendall County for their September Program\, where guests will learn what to do with their DNA test results!
X-ALT-DESC;FMTTYPE=text/html:Finally! My DNA results! What now??<br />\n<br />\nJoin the Genealogical Society of Kendall County for their September Program\, where guests will learn what to do with their DNA test results!&nbsp\;
LOCATION:Patrick Heath Public Library 451 N Main Boerne\, TX 78006
UID:e.187.28586
SEQUENCE:3
DTSTAMP:20260419T181040Z
URL:https://business.boerne.org/events/details/genealogical-society-of-kendall-county-september-program-28586
END:VEVENT

END:VCALENDAR
