BEGIN:VCALENDAR
VERSION:2.0
PRODID:-//ChamberMaster//Event Calendar 2.0//EN
METHOD:PUBLISH
X-PUBLISHED-TTL:P3D
REFRESH-INTERVAL:P3D
CALSCALE:GREGORIAN
BEGIN:VEVENT
DTSTART:20240927T200000Z
DTEND:20240927T220000Z
X-MICROSOFT-CDO-ALLDAYEVENT:FALSE
SUMMARY:FRONTIER TECH TALK
DESCRIPTION:Friday\, September 27th\n\n3:00 PM   5:00 PM\n\nFRONTIER TECH TALK \n\nPresented by Uncommon Ventures\n\nSponsored by Das GreenHaus and the Building Texas Show \n\nListen to talks from experts on the themes of AI + Blockchain + Regenerative + DeFi. Come to network with tech forward professionals.\n\nReserve your spot on the Eventbrite HERE.
X-ALT-DESC;FMTTYPE=text/html:Friday\, September 27th<br />\n3:00 PM &ndash\; 5:00 PM<br />\n<strong>FRONTIER TECH TALK&nbsp\;</strong><br />\n<em>Presented by Uncommon Ventures</em><br />\n<em>Sponsored by Das GreenHaus and the Building Texas Show&nbsp\;</em><br />\nListen to talks from experts on the themes of AI + Blockchain + Regenerative + DeFi. Come to network with tech forward professionals.<br />\n<a href="https://www.eventbrite.com/e/frontier-tech-talk-tickets-1013188693657?aff=oddtdtcreator" style="color:rgb(0\, 120\, 215)\;" title="https://www.eventbrite.com/e/frontier-tech-talk-tickets-1013188693657?aff=oddtdtcreator">Reserve your spot on the Eventbrite HERE.</a>
LOCATION:Das GreenHaus 7 Upper Balcones Boerne\, TX 78006
UID:e.187.28642
SEQUENCE:3
DTSTAMP:20260419T175754Z
URL:https://business.boerne.org/events/details/frontier-tech-talk-28642
END:VEVENT

END:VCALENDAR
