BEGIN:VCALENDAR
VERSION:2.0
PRODID:-//ChamberMaster//Event Calendar 2.0//EN
METHOD:PUBLISH
X-PUBLISHED-TTL:P3D
REFRESH-INTERVAL:P3D
CALSCALE:GREGORIAN
BEGIN:VEVENT
DTSTART:20170803T170000Z
DTEND:20170803T180000Z
X-MICROSOFT-CDO-ALLDAYEVENT:FALSE
SUMMARY:Front Office - Kami WBU
DESCRIPTION:
X-ALT-DESC;FMTTYPE=text/html:
LOCATION:
UID:e.187.11947
SEQUENCE:3
DTSTAMP:20260422T231315Z
URL:https://business.boerne.org/events/details/front-office-kami-wbu-11947
END:VEVENT

END:VCALENDAR
