BEGIN:VCALENDAR
VERSION:2.0
PRODID:-//ChamberMaster//Event Calendar 2.0//EN
METHOD:PUBLISH
X-PUBLISHED-TTL:P3D
REFRESH-INTERVAL:P3D
CALSCALE:GREGORIAN
BEGIN:VEVENT
DTSTART:20180427T191500Z
DTEND:20180427T210000Z
X-MICROSOFT-CDO-ALLDAYEVENT:FALSE
SUMMARY:Front Office Chamber Jacques DuBose
DESCRIPTION:
X-ALT-DESC;FMTTYPE=text/html:
LOCATION:
UID:e.187.13698
SEQUENCE:3
DTSTAMP:20260422T102904Z
URL:https://business.boerne.org/events/details/front-office-chamber-jacques-dubose-13698
END:VEVENT

END:VCALENDAR
