BEGIN:VCALENDAR
VERSION:2.0
PRODID:-//ChamberMaster//Event Calendar 2.0//EN
METHOD:PUBLISH
X-PUBLISHED-TTL:P3D
REFRESH-INTERVAL:P3D
CALSCALE:GREGORIAN
BEGIN:VEVENT
DTSTART:20241031T123000Z
DTEND:20241031T140000Z
X-MICROSOFT-CDO-ALLDAYEVENT:FALSE
SUMMARY:Franklin Park Boerne Halloween Breakfast
DESCRIPTION:Come follow the Yellow Brick Road to Emerald City to enjoy breakfast with The Evil Witch\, Dorothy\, The Tine Man\, and more friends! Refreshments and goodies will be available. Swing by and pick up some spooky treats!
X-ALT-DESC;FMTTYPE=text/html:Come follow the Yellow Brick Road to Emerald City to enjoy breakfast with The Evil Witch\, Dorothy\, The Tine Man\, and more friends! Refreshments and goodies will be available. Swing by and pick up some spooky treats!
LOCATION:Franklin Park Boerne 18 Old San Antonio Rd Boerne\, TX 78006
UID:e.187.28706
SEQUENCE:3
DTSTAMP:20260419T162645Z
URL:https://business.boerne.org/events/details/franklin-park-boerne-halloween-breakfast-28706
END:VEVENT

END:VCALENDAR
