BEGIN:VCALENDAR
VERSION:2.0
PRODID:-//ChamberMaster//Event Calendar 2.0//EN
METHOD:PUBLISH
X-PUBLISHED-TTL:P3D
REFRESH-INTERVAL:P3D
CALSCALE:GREGORIAN
BEGIN:VEVENT
DTSTART:20220626T140000Z
DTEND:20220626T160000Z
X-MICROSOFT-CDO-ALLDAYEVENT:FALSE
SUMMARY:Forest Bathing and Forest Therapy
DESCRIPTION:Forest Bathing\n\nForest Bathing\n\nForest Bathing or Shinrin-yuko and Forest Therapy or Shinrin-yoho are research-based practices allowing people to slow down from their daily lives and enjoy healing through participation with the natural world. We will guide you through interactions designed to improve your relationships with others and the more-than-human world. The outcome of your walk depends on you and your unique connection and interaction with the natural world.\n\nForest Therapy \n\nOur Forest Therapy walk will take place along the Woodlands Trail\, the Cibolo Nature Center.\n\nWe will meet in the parking lot\, complete some forms\, and prepare for our walk that will take approximately two hours and cover one and a half miles. There are spots on the trail that are a little rocky\, and we recommend closed-toe shoes or boots to protect your feet and ankles. Please bring water\, sunscreen\, bug spray\, and anything else you might enjoy having with you. There are some places to sit\, but we will be on our feet most of the time.
X-ALT-DESC;FMTTYPE=text/html:<h2>Forest Bathing</h2>\n\n<h2><em>Forest Bathing</em></h2>\n\n<p>Forest Bathing or&nbsp\;<em>Shinrin-yuko&nbsp\;</em>and Forest Therapy or&nbsp\;<em>Shinrin-yoho</em>&nbsp\;are research-based practices allowing people to slow down from their daily lives and enjoy healing through participation with the natural world. We will guide you through interactions designed to improve your relationships with others and the more-than-human world. The outcome of your walk depends on you and your unique connection and interaction with the natural world.</p>\n\n<h2><em>Forest Therapy&nbsp\;</em></h2>\n\n<p>Our Forest Therapy walk will take place along the Woodlands Trail\, the Cibolo Nature Center.</p>\n\n<p>We will meet in the parking lot\, complete some forms\, and prepare for our walk that will take approximately two hours and cover one and a half miles. There are spots on the trail that are a little rocky\, and we recommend closed-toe shoes or boots to protect your feet and ankles. Please bring water\, sunscreen\, bug spray\, and anything else you might enjoy having with you. There are some places to sit\, but we will be on our feet most of the time.&nbsp\;</p>\n
LOCATION:Cibolo Nature Center
UID:e.187.20102
SEQUENCE:3
DTSTAMP:20260423T184520Z
URL:https://business.boerne.org/events/details/forest-bathing-and-forest-therapy-06-26-2022-20102
END:VEVENT

END:VCALENDAR
