BEGIN:VCALENDAR
VERSION:2.0
PRODID:-//ChamberMaster//Event Calendar 2.0//EN
METHOD:PUBLISH
X-PUBLISHED-TTL:P3D
REFRESH-INTERVAL:P3D
CALSCALE:GREGORIAN
BEGIN:VEVENT
DTSTART:20180213T143000Z
DTEND:20180213T153000Z
X-MICROSOFT-CDO-ALLDAYEVENT:FALSE
SUMMARY:Financial Health Builds Wealth Workshop Presented by Texas Business Buyers
DESCRIPTION:Financial wellness is the lifeblood of your business.  Let's face it\, it is easy to build bad financial habits.  If you are not healthy financially\, you are sacrificing your time\, family\, and health with little hope of financial return.\n\n\n\n\n\n\n\nFinancial best practices will add dramatic value to your business.  And as an owner you can gain freedom.  There are too many businesses with large top line revenue and profit so low the business has little value beyond inventory.\n\n\n\nThis workshop will introduce simple concepts that will return financial health. \n\n\n\nIn this workshop we will cover\n\n- Rules for successful financial management\n\n- How to tame the cashflow monster\n\n- Better manage your largest expense\n\n- Avoiding the biggest financial mistakes\n\n\n\nYou will leave with information you can implement in your business.\n\n\n\nPresenter\n\nRobert Upton has owned 3 small businesses and has management and sales background in real estate\, B2B service companies\, and nonprofit.  He has consulted businesses from a large variety of industries over the last decade.  Robert works with Texas Business Buyers\, a leading Texas firm that specializes in small business transactions and has 100% success record in selling the businesses they have represented\, for 98.5% of asking price.\n\n\n\nRobert is also founder of SimpleWorks a consulting company that follows a systematic approach to business growth\, utilizing best practices and proven methods.  SimpleWorks focuses on 3 key areas Build a Great Team\, Maximize Business Value\, and Gain Owner Freedom.\n\n\n\nThis is the second meeting in the Building Business Value Breakfast Series.  We will meet 2nd Tuesday of the month at 8:30 AM at the Boerne Chamber office.
X-ALT-DESC;FMTTYPE=text/html:Financial wellness is the lifeblood of your business.&nbsp\; Let&rsquo\;s face it\, it is easy to build bad financial habits.&nbsp\; If you are not healthy financially\, you are sacrificing your time\, family\, and health with little hope of financial return.<br />\n<br />\n<br />\n<br />\n<span style="font-family:calibri\,sans-serif\;"><span style="font-size:11.0pt\;"><span style="background-color:rgba(255\, 255\, 255\, 0)\;">Financial best practices will add dramatic value to your business.&nbsp\; And as an owner you can gain freedom.&nbsp\; There are too many businesses with large top line revenue and profit so low the business has little value beyond inventory.<br />\n<br />\nThis workshop will introduce simple concepts that will return financial health.&nbsp\;<br />\n<br />\nIn this workshop we will cover<br />\n- Rules for successful financial management<br />\n- How to tame the cashflow monster<br />\n- Better manage your largest expense<br />\n- Avoiding the biggest financial mistakes<br />\n<br />\nYou will leave with information you can implement in your business.<br />\n<br />\nPresenter<br />\nRobert Upton has owned 3 small businesses and has management and sales background in real estate\, B2B service companies\, and nonprofit.&nbsp\; He has consulted businesses from a large variety of industries over the last decade.&nbsp\; Robert works with Texas Business Buyers\, a leading Texas firm that specializes in small business transactions and has 100% success record in selling the businesses they have represented\, for 98.5% of asking price.<br />\n<br />\nRobert is also founder of SimpleWorks a consulting company that follows a systematic approach to business growth\, utilizing best practices and proven methods.&nbsp\; SimpleWorks focuses on 3 key areas Build a Great Team\, Maximize Business Value\, and Gain Owner Freedom.<br />\n<br />\nThis is the second meeting in the Building Business Value Breakfast Series.&nbsp\; We will meet 2nd Tuesday of the month&nbsp\;<a href="x-apple-data-detectors://3" x-apple-data-detectors="true" x-apple-data-detectors-result="3" x-apple-data-detectors-type="calendar-event">at 8:30 AM</a>&nbsp\;at the Boerne Chamber office.</span></span></span><br />\n&nbsp\;
LOCATION:Boardroom
UID:e.187.11968
SEQUENCE:3
DTSTAMP:20260422T135202Z
URL:https://business.boerne.org/events/details/financial-health-builds-wealth-workshop-presented-by-texas-business-buyers-11968
END:VEVENT

END:VCALENDAR
