BEGIN:VCALENDAR
VERSION:2.0
PRODID:-//ChamberMaster//Event Calendar 2.0//EN
METHOD:PUBLISH
X-PUBLISHED-TTL:P3D
REFRESH-INTERVAL:P3D
CALSCALE:GREGORIAN
BEGIN:VEVENT
DTSTART:20250615T160000Z
DTEND:20250615T190000Z
X-MICROSOFT-CDO-ALLDAYEVENT:FALSE
SUMMARY:Father's Day Brunch at Tapatio Springs
DESCRIPTION:It's Dad's Day Out: Celebrate Father's Day with a bold brunch at La Cascada Table & Bar! Join us on Sunday\, June 15th\, from 11 AM to 2 PM\, and treat Dad to a delectable feast featuring hearty breakfast dishes\, mouthwatering BBQ specialties\, and delightful desserts. Savor all-day drink specials featuring Uncle Nearest Premium Bourbon. Add an extra taste of adventure and highlight Dad's Day Out with our outdoor-themed giveaway! $55 per Adult | $25 per Child (under 12) | Free under age 3 (Excludes tax & gratuity) Book your table now for Father's Day Brunch!
X-ALT-DESC;FMTTYPE=text/html:<div style="color:black\;">It&#39\;s Dad&#39\;s Day Out: Celebrate Father&rsquo\;s Day with a bold brunch at La Cascada Table &amp\; Bar! Join us on <strong>Sunday\, June 15th\, from 11 AM to 2 PM</strong>\, and treat Dad to a delectable feast featuring hearty breakfast dishes\, mouthwatering BBQ specialties\, and delightful desserts. Savor all-day drink specials featuring Uncle Nearest Premium Bourbon. Add an extra taste of adventure and highlight Dad&#39\;s Day Out with our outdoor-themed giveaway! $55 per Adult | $25 per Child (under 12) | Free under age 3 (Excludes tax &amp\; gratuity) Book your table now for Father&#39\;s Day Brunch!</div>\n
LOCATION:Tapatio Springs Hill Country Resort 1 Resort Way Boerne\, TX 78006
UID:e.187.30616
SEQUENCE:3
DTSTAMP:20260422T195407Z
URL:https://business.boerne.org/events/details/father-s-day-brunch-at-tapatio-springs-30616
END:VEVENT

END:VCALENDAR
