BEGIN:VCALENDAR
VERSION:2.0
PRODID:-//ChamberMaster//Event Calendar 2.0//EN
METHOD:PUBLISH
X-PUBLISHED-TTL:P3D
REFRESH-INTERVAL:P3D
CALSCALE:GREGORIAN
BEGIN:VEVENT
DTSTART;VALUE=DATE:20260306
DTEND;VALUE=DATE:20260307
TRANSP:TRANSPARENT
X-MICROSOFT-CDO-ALLDAYEVENT:TRUE
SUMMARY:Family Night Hike at The Cibolo
DESCRIPTION:Join The Cibolo on the trails at sunset and discover the various living organisms that call The Cibolo home. Family Night Hikes accommodate short legs and short attention spans\, and are great ways for children and families to explore The Cibolo and see what lives in the park in the dark!\n\n\n\nNight Hikes are approximately an hour and a half long. Please note that the times change as the sunset time progresses.\n\n\n\n2026 Schedule\n\nFebruary 6\, 2026: 6:00-7:30pm\n\nMarch 6\, 2026: 6:30-8:00pm\n\nApril 3\, 2026: 7:45-9:15pm\n\nMay 1\, 2026: 8:00-9:30pm\n\nAugust 7\, 2026: 8:15-9:45pm\n\nSeptember 4\, 2026: 7:45-9:15pm\n\nOctober 2\, 2026: 7:15-8:45pm
X-ALT-DESC;FMTTYPE=text/html:Join The Cibolo on the trails at sunset and discover the various living organisms that call The Cibolo home. Family Night Hikes accommodate short legs and short attention spans\, and are great ways for children and families to explore The Cibolo and see what lives in the park in the dark!<br />\n<br />\nNight Hikes are approximately an hour and a half long.&nbsp\;<strong>Please note that the times change as the sunset time progresses.</strong><br />\n<br />\n<strong>2026 Schedule</strong><br />\nFebruary 6\, 2026: 6:00-7:30pm<br />\nMarch 6\, 2026: 6:30-8:00pm<br />\nApril 3\, 2026: 7:45-9:15pm<br />\nMay 1\, 2026: 8:00-9:30pm<br />\nAugust 7\, 2026: 8:15-9:45pm<br />\nSeptember 4\, 2026: 7:45-9:15pm<br />\nOctober 2\, 2026: 7:15-8:45pm
LOCATION:Nature Center 140 City Park Road Boerne\, Texas 78006
UID:e.187.32122
SEQUENCE:3
DTSTAMP:20260420T071050Z
URL:https://business.boerne.org/events/details/family-night-hike-at-the-cibolo-03-06-2026-32122
END:VEVENT

END:VCALENDAR
