BEGIN:VCALENDAR
VERSION:2.0
PRODID:-//ChamberMaster//Event Calendar 2.0//EN
METHOD:PUBLISH
X-PUBLISHED-TTL:P3D
REFRESH-INTERVAL:P3D
CALSCALE:GREGORIAN
BEGIN:VEVENT
DTSTART:20241019T140000Z
DTEND:20241019T180000Z
X-MICROSOFT-CDO-ALLDAYEVENT:FALSE
SUMMARY:Fall Native Plant Sale
DESCRIPTION:Join the Native Plant Society of Texas - Boerne Chapter for their Fall Native Plant Sale! Shop locally grown\, native plants and chat with Texas native plant experts!
X-ALT-DESC;FMTTYPE=text/html:Join the Native Plant Society of Texas - Boerne Chapter for their Fall Native Plant Sale! Shop locally grown\, native plants and chat with Texas native plant experts!
LOCATION:Herff Farm 33 Herff Rd Boerne\, TX 78006
UID:e.187.28661
SEQUENCE:3
DTSTAMP:20260419T162528Z
URL:https://business.boerne.org/events/details/fall-native-plant-sale-28661
END:VEVENT

END:VCALENDAR
